BEGIN:VCALENDAR
VERSION:2.0
PRODID:-//Lake George Arts Project - ECPv6.15.20//NONSGML v1.0//EN
CALSCALE:GREGORIAN
METHOD:PUBLISH
X-WR-CALNAME:Lake George Arts Project
X-ORIGINAL-URL:https://lakegeorgearts.org
X-WR-CALDESC:Events for Lake George Arts Project
REFRESH-INTERVAL;VALUE=DURATION:PT1H
X-Robots-Tag:noindex
X-PUBLISHED-TTL:PT1H
BEGIN:VTIMEZONE
TZID:America/New_York
BEGIN:DAYLIGHT
TZOFFSETFROM:-0500
TZOFFSETTO:-0400
TZNAME:EDT
DTSTART:20160313T070000
END:DAYLIGHT
BEGIN:STANDARD
TZOFFSETFROM:-0400
TZOFFSETTO:-0500
TZNAME:EST
DTSTART:20161106T060000
END:STANDARD
BEGIN:DAYLIGHT
TZOFFSETFROM:-0500
TZOFFSETTO:-0400
TZNAME:EDT
DTSTART:20170312T070000
END:DAYLIGHT
BEGIN:STANDARD
TZOFFSETFROM:-0400
TZOFFSETTO:-0500
TZNAME:EST
DTSTART:20171105T060000
END:STANDARD
BEGIN:DAYLIGHT
TZOFFSETFROM:-0500
TZOFFSETTO:-0400
TZNAME:EDT
DTSTART:20180311T070000
END:DAYLIGHT
BEGIN:STANDARD
TZOFFSETFROM:-0400
TZOFFSETTO:-0500
TZNAME:EST
DTSTART:20181104T060000
END:STANDARD
BEGIN:DAYLIGHT
TZOFFSETFROM:-0500
TZOFFSETTO:-0400
TZNAME:EDT
DTSTART:20190310T070000
END:DAYLIGHT
BEGIN:STANDARD
TZOFFSETFROM:-0400
TZOFFSETTO:-0500
TZNAME:EST
DTSTART:20191103T060000
END:STANDARD
END:VTIMEZONE
BEGIN:VEVENT
DTSTART;VALUE=DATE:20170607
DTEND;VALUE=DATE:20180811
DTSTAMP:20260424T121810
CREATED:20190402T144053Z
LAST-MODIFIED:20190402T144053Z
UID:10000545-1496793600-1533945599@lakegeorgearts.org
SUMMARY:"Shifting Perceptions" a solo exhibition of new work by Jenny Hutchinson
DESCRIPTION:July 7 – August 10\, 2018 \nOpening Reception Saturday\, July 7\, 4 – 6 pm. \nThis event is FREE and open to the public. \nGallery Hours: Tues – Fri 12 – 5 pm\, Sat 12 – 4 pm \nReview online: Get Visual \n   \nJenny Hutchinson’s work is informed by her love for drawing from life. Her recent work is inspired by time spent outside in the natural world\, as well as the plants residing in her house\, observing changes that come through the course of a day\, as well as through the seasons. She says: “Each artwork draws inspiration from my passion for the beauty of the outdoors and plants. The selected color palette is informed by different times of the day and the lighting effect that impacts our apprehension of color. I avidly spend time outdoors watching the world slowly change around me. The plants drawn from my own household evolve too\, throughout the year\, and they have served as additional inspiration. The artworks mimic this interplay of encounters\, observing something unfold and change… which is representative of the enthusiasm and curiosity I feel for these plants and places.” \nJenny Hutchinson earned her Master of Fine Arts degree from Clemson University and Bachelor of Fine Arts from Plattsburgh State University. Her work has been shown at many venues\, including The Shirt Factory Gallery and LARAC\, both in Glens Falls\, NY; Albany Center Gallery\, Albany\, NY; Arts Center of the Capital Region\, Troy\, NY; Laffer Gallery\, Schuylerville\, NY. She currently works as the Head of Museum Education at The Hyde Collection in Glens Falls\, NY. She formerly worked as Gallery Curator and Marketing Coordinator at LARAC in Glens Falls\, and taught Basic Design and Introductory Drawingat SUNY Adirondack\, also in Glens Falls\, NY. Her private studio space is located at The Shirt Factory in Glens Falls\, NY. You can learn more about her work at www.jennyhutch.com \nThis exhibition is funded in part by The Alfred Z. Solomon Charitable Trust\, Adirondack Studios\, The Community Exchange Foundation\, and the New York State Council on The Arts with the support of Governor Andrew Cuomo and the New York State Legislature. The Courthouse Gallery hours during exhibitions are Tuesday through Friday 12 – 5 pm\, Saturday 12 – 4 pm\, and all other times by appointment. The Courthouse Gallery is located at the side entrance of the Old County Courthouse\, corner of Canada and Lower Amherst Streets\, Lake George\, NY.
URL:https://lakegeorgearts.org/event/shifting-perceptions-a-solo-exhibition-of-new-work-by-jenny-hutchinson-3/
LOCATION:Courthouse Gallery\, 1 Amherst St\, Lake George\, NY\, 12845\, United States
CATEGORIES:Courthouse Gallery
END:VEVENT
BEGIN:VEVENT
DTSTART;VALUE=DATE:20180310
DTEND;VALUE=DATE:20180414
DTSTAMP:20260424T121810
CREATED:20190402T143603Z
LAST-MODIFIED:20190402T143603Z
UID:10000539-1520640000-1523663999@lakegeorgearts.org
SUMMARY:Just Beyond the River\, mixed media work by Daesha Devón Harris
DESCRIPTION:March 10 – April 13\, 2018 \nOpening Reception Saturday\, March 10\, 4 – 6 pm. \nThis event is FREE and open to the public. \nGallery Hours: Tues – Fri 12 – 5 pm\, Sat 12 – 4 pm \n   \nDaesha Devón Harris is a mixed media artist weaving texts with images\, historical and current\, that often focus on her own home town community of Saratoga Springs\, NY. By subtly combining biographic information of her subjects within her mixed media/photographic work\, she documents the challenges facing urban neighborhoods\, the severe effects of gentrification on many communities\, as well as the diverse and rich contributions of many through history that are rarely\, if ever\, told. She says: “Through my artwork I strive to promote a sincere understanding of the contemporary and historic contributions of people of color … with insight\, compassion and protectiveness I endeavor to capture the ‘life’ that continues to evolve amidst struggle and success. And with ardent respect for a profound past\, I challenge the viewer to consider the complexity of issues facing communities of color.” \nJust Beyond the River features selections from Harris’ series of mixed media pieces\, made using a personal collection of unidentified discarded Victorian era portraits. In production over multiple years\, throughout every season\, her process includes submerging a transparent version of a portrait in a body of water amongst an arranged aquatic still-life and photographing the constructed scene. The resulting image\, layered with various visual elements from the past and the present\, is in fact a single frame embodying all components in the same space. Also featured are selections from Harris’ newest exploration of underwater imagery that combines time-lapse photography with choreographed movements and reenactments. This work is inspired by Negro Folklore\, Slave Narratives and Harlem Renaissance poetry and aims to illuminate America’s enduring legacies of colonialism and systemic racism that defines our nation’s history\, while reiterating the central narrative that emerges from the referenced memoirs – the ongoing struggle for Freedom. \nDaesha Devón Harris earned her BFA in Studio Art from the College of Saint Rose\, Albany\, NY\, and her MFA in Visual Art from The University at Buffalo\, NY. She has been featured in numerous exhibitions across New York State\, and beyond. Her work was recently exhibited at the 80th Mohawk-Hudson Regional at the Hyde Collection in Glens Falls\, NY; Many Rivers: Black Dimensions In Art\, 40 Years at the Saratoga Art Center; the 37th Annual Photography Regional at the Opalka Gallery in Albany; Reclamation at Collar Works Gallery and Just Beyond The River at the Rensselaer County Historical Society\, both in Troy\, NY. Along with her work as a visual artist\, Harris is active in her community as a youth advocate and cultural history preservationist. Her awards include grants from NYSCA/Saratoga County Arts Funding\, and she has been a featured artist and speaker at many art\, community and educational events\, including the 15th Annual Underground Railroad Public History Conference in Troy\, NY (2016)\, the MDOCS Portrait and Biography Series and the Harry Burleigh Commemoration Event (2016)\, both at Skidmore College Saratoga Springs\, NY. You can learn more about her work at http://www.daeshadevonharris.com. \nThis exhibition is funded in part by The Alfred Z. Solomon Charitable Trust\, Adirondack Studios\, Mirror Lake Inn\, Lake Placid\, The Community Exchange Foundation\, and the New York State Council on The Arts with the support of Governor Andrew Cuomo and the New York State Legislature. The Courthouse Gallery hours during exhibitions are Tuesday through Friday 12 – 5 pm\, Saturday 12 – 4 pm\, and all other times by appointment. The Courthouse Gallery is located at the side entrance of the Old County Courthouse\, corner of Canada and Lower Amherst Streets\, Lake George\, NY.
URL:https://lakegeorgearts.org/event/just-beyond-the-river-mixed-media-work-by-daesha-devon-harris-3/
LOCATION:Courthouse Gallery\, 1 Amherst St\, Lake George\, NY\, 12845\, United States
CATEGORIES:Courthouse Gallery
END:VEVENT
END:VCALENDAR