BEGIN:VCALENDAR
VERSION:2.0
PRODID:-//Lake George Arts Project - ECPv6.15.20//NONSGML v1.0//EN
CALSCALE:GREGORIAN
METHOD:PUBLISH
X-WR-CALNAME:Lake George Arts Project
X-ORIGINAL-URL:https://lakegeorgearts.org
X-WR-CALDESC:Events for Lake George Arts Project
REFRESH-INTERVAL;VALUE=DURATION:PT1H
X-Robots-Tag:noindex
X-PUBLISHED-TTL:PT1H
BEGIN:VTIMEZONE
TZID:America/New_York
BEGIN:DAYLIGHT
TZOFFSETFROM:-0500
TZOFFSETTO:-0400
TZNAME:EDT
DTSTART:20180311T070000
END:DAYLIGHT
BEGIN:STANDARD
TZOFFSETFROM:-0400
TZOFFSETTO:-0500
TZNAME:EST
DTSTART:20181104T060000
END:STANDARD
BEGIN:DAYLIGHT
TZOFFSETFROM:-0500
TZOFFSETTO:-0400
TZNAME:EDT
DTSTART:20190310T070000
END:DAYLIGHT
BEGIN:STANDARD
TZOFFSETFROM:-0400
TZOFFSETTO:-0500
TZNAME:EST
DTSTART:20191103T060000
END:STANDARD
BEGIN:DAYLIGHT
TZOFFSETFROM:-0500
TZOFFSETTO:-0400
TZNAME:EDT
DTSTART:20200308T070000
END:DAYLIGHT
BEGIN:STANDARD
TZOFFSETFROM:-0400
TZOFFSETTO:-0500
TZNAME:EST
DTSTART:20201101T060000
END:STANDARD
BEGIN:DAYLIGHT
TZOFFSETFROM:-0500
TZOFFSETTO:-0400
TZNAME:EDT
DTSTART:20210314T070000
END:DAYLIGHT
BEGIN:STANDARD
TZOFFSETFROM:-0400
TZOFFSETTO:-0500
TZNAME:EST
DTSTART:20211107T060000
END:STANDARD
END:VTIMEZONE
BEGIN:VEVENT
DTSTART;VALUE=DATE:20191201
DTEND;VALUE=DATE:20200201
DTSTAMP:20260421T021906
CREATED:20191029T163833Z
LAST-MODIFIED:20191029T163833Z
UID:8046-1575158400-1580515199@lakegeorgearts.org
SUMMARY:Call for Artists
DESCRIPTION:The Lake George Arts Project’s Courthouse Gallery presents 6 exhibitions yearly of regional\, national\, emerging and established contemporary visual artists in all media. Our gallery mission is to provide exhibition opportunities to emerging and professional artists\, preference given to work created within the last 2 years\, and to experimental or non-traditional work. We provide artists with a quality space where they can present a solid body of work in a solo or small group show. \nArtists are invited to send exhibition proposals to the Courthouse Gallery. We seek proposals from professional artists and crafts-persons (those making a living\, or endeavoring to make a living\, through their artwork). Strong preference is given to work created within the past two years. We welcome proposals for special exhibitions\, installations\, mixed media presentations\, and performance art. The deadline is always January 31. \nTo begin the process you will need the following:\n1. 10 to 12 images (Formats accepted for upload: JPG\, TIFF or GIF)\n2. Resume/CV\n3. Artist Statement/Bio \nProposals are accepted online between December 1st – January 31st.\nPlease follow this link to submit work for review:\n\nPlease do not email proposals\, or send links to web sites.\nSelection and notification is usually complete by April.
URL:https://lakegeorgearts.org/event/call-for-artists-4/
LOCATION:Courthouse Gallery\, 1 Amherst St\, Lake George\, NY\, 12845\, United States
CATEGORIES:Courthouse Gallery
ATTACH;FMTTYPE=:
END:VEVENT
END:VCALENDAR