BEGIN:VCALENDAR
VERSION:2.0
PRODID:-//Lake George Arts Project - ECPv6.15.20//NONSGML v1.0//EN
CALSCALE:GREGORIAN
METHOD:PUBLISH
X-WR-CALNAME:Lake George Arts Project
X-ORIGINAL-URL:https://lakegeorgearts.org
X-WR-CALDESC:Events for Lake George Arts Project
REFRESH-INTERVAL;VALUE=DURATION:PT1H
X-Robots-Tag:noindex
X-PUBLISHED-TTL:PT1H
BEGIN:VTIMEZONE
TZID:America/New_York
BEGIN:DAYLIGHT
TZOFFSETFROM:-0500
TZOFFSETTO:-0400
TZNAME:EDT
DTSTART:20190310T070000
END:DAYLIGHT
BEGIN:STANDARD
TZOFFSETFROM:-0400
TZOFFSETTO:-0500
TZNAME:EST
DTSTART:20191103T060000
END:STANDARD
BEGIN:DAYLIGHT
TZOFFSETFROM:-0500
TZOFFSETTO:-0400
TZNAME:EDT
DTSTART:20200308T070000
END:DAYLIGHT
BEGIN:STANDARD
TZOFFSETFROM:-0400
TZOFFSETTO:-0500
TZNAME:EST
DTSTART:20201101T060000
END:STANDARD
BEGIN:DAYLIGHT
TZOFFSETFROM:-0500
TZOFFSETTO:-0400
TZNAME:EDT
DTSTART:20210314T070000
END:DAYLIGHT
BEGIN:STANDARD
TZOFFSETFROM:-0400
TZOFFSETTO:-0500
TZNAME:EST
DTSTART:20211107T060000
END:STANDARD
END:VTIMEZONE
BEGIN:VEVENT
DTSTART;VALUE=DATE:20200926
DTEND;VALUE=DATE:20201031
DTSTAMP:20260420T150954
CREATED:20190606T155534Z
LAST-MODIFIED:20190606T155534Z
UID:8040-1601078400-1604102399@lakegeorgearts.org
SUMMARY:D. Jack Solomon
DESCRIPTION:Interlude\, acrylic on canvas\, 24 x 18 inches. \nLikeWise\, acrylic on canvas\, 24 x 18 inches. \nThis exhibition is installed in the gallery\, and available for the public to view. \nWe are committed to public safety within our Up-State NY community and beyond\, and want everybody to stay strong\, safe\, and healthy. \nAll entering our office and gallery space will need to wear a mask and will be asked to sign in with their name and two points of contact (email\, address\, and/or phone number).  This is strictly for NYS contact tracing.\nWe will admit no more than 5 people at a time in the gallery. \nWe will provide masks for those that need one\, and provide hand sanitizing stations throughout our space.  We suggest that you contact the gallery before your visit\, since NYS guidelines related to Covid-19 may change. Call 518-323-5499\, ​or ​email mail@lakegeorgarts.org. \nIn place of on-site gallery reception we presented an Online Talk with Jack Solomon​ on September 26.  View the recording HERE. \nCheck out online review from GET VISUAL Art Blog  HERE > \nJack Solomon’s vibrant paintings are a complex mix of imagery\, often whimsical\, with rich colors and surfaces. Working from a red undercoat creates luminous eye-popping effects where the red paint is exposed. It also serves to unify the contrasting forms weaving through the paintings intricate space. Solomon draws from many sources\, including early modernism\, surrealism\, abstract expressionism\, pop art and cartoon imagery\, to name a few. But Solomon finds inspiration everywhere. He says: “There is not a day that goes by that I am not inspired by something or someone. I’m very grateful for this.” Finding inspiration from so many places has led to a prolific painting career spanning many decades. \nHe says: “My paintings are a condensation of sensations received through juxtapositions of shape\, line and color\, interpreted into a visual language. Inventing a unique structure that positions disparate elements to the whole is one of the most challenging and motivation facets of making my art. I have been intrigued throughout my creative life with the similarities among all the arts as to how component parts assembled within a specific context come to a desired gestalt. It is the organization and orchestration in musical composition that I most profoundly relate to and have been influenced by.” \nRe-Encounter\, acrylic on canvas\, 24 x 18 inches. \nJack Solomon earned his B.A. from San Diego State College\, and M.A. from San Francisco State College. He also served in the Underwater Demolition Team in the U.S. Navy from 1953 – 57. His work has been featured in many solo exhibitions\, most recently at Gallery A\, Richmond\, VA; Hudson Opera House\, Hudson\, NY; Conde Nast Gallery\, New York\, NY; Clement Art Gallery\, Troy\, NY; and Albany Center Gallery\, Albany\, NY. His work has been included in recent group exhibitions at Lockwood Gallery\, Kingston\, NY; Thompson Giroux Gallery\, Chatham NY; Cross Cotemporary\, Saugerties\, NY; Scarlet Seven Fine Art Gallery\, Troy\, NY; and Geoffrey Young Gallery\, Great Barrington\, MA. His works can be found in many public collections\, including the Albany Institute of History and Art\, Albany\, NY; Virginia Museum of Fine Arts\, Richmond\, VA; and Long Beach Museum of Art\, Long Beach\, CA. His awards include grants from the Pollock-Krasner Foundation; Rensselaer County Council for the Arts; Change\, Inc; and a National Endowment for the Arts Individual Artist Grant. Solomon has taught at many colleges and universities\, including Virginia Commonwealth University\, Richmond\, VA; Brooklyn Museum School of Art\, Brooklyn\, NY; SUNY Purchase\, Purchase\, NY; SUNY New Paltz\, New Paltz\, NY; and 29 years at Parsons School of Design in New York\, City\, retiring in 2011. He currently lives and works in Hudson\, NY with his wife\, and fellow artist\, Jeannette Fintz. \nView paintings in the exhibition HERE\nView Price List HERE\nView short film / slide show of D. Jack Solomon paintings HERE \nThe Courthouse Gallery is located at the side entrance of the Old County Courthouse\, corner of Canada and Lower Amherst Streets\, Lake George\, NY.  Hours during exhibitions are Wednesday through Friday 12 – 5 pm\, Saturday 12 – 4 pm\, and all other times by appointment. \nPlease NOTE: Regular Gallery hours may change due to the COVID-19 health emergency.  For Updates please call 518-668-2616 or email laura@lakegeorgearts.org. \nThis exhibition is funded in part by the Town and Village of Lake George; the Alfred Z. Solomon Charitable Trust; 518 Profiles; Price Chopper’s Golub Foundation\, Stewart’s Shops and the Dake Family Foundations\, and LGAP members.  Please Join us today! \nthank you to our sponsors:\n          
URL:https://lakegeorgearts.org/event/paintings-by-d-jack-solomon-3/
LOCATION:Courthouse Gallery\, 1 Amherst St\, Lake George\, NY\, 12845\, United States
CATEGORIES:Courthouse Gallery
ATTACH;FMTTYPE=:
END:VEVENT
END:VCALENDAR