BEGIN:VCALENDAR
VERSION:2.0
PRODID:-//Lake George Arts Project - ECPv6.15.20//NONSGML v1.0//EN
CALSCALE:GREGORIAN
METHOD:PUBLISH
X-WR-CALNAME:Lake George Arts Project
X-ORIGINAL-URL:https://lakegeorgearts.org
X-WR-CALDESC:Events for Lake George Arts Project
REFRESH-INTERVAL;VALUE=DURATION:PT1H
X-Robots-Tag:noindex
X-PUBLISHED-TTL:PT1H
BEGIN:VTIMEZONE
TZID:America/New_York
BEGIN:DAYLIGHT
TZOFFSETFROM:-0500
TZOFFSETTO:-0400
TZNAME:EDT
DTSTART:20190310T070000
END:DAYLIGHT
BEGIN:STANDARD
TZOFFSETFROM:-0400
TZOFFSETTO:-0500
TZNAME:EST
DTSTART:20191103T060000
END:STANDARD
BEGIN:DAYLIGHT
TZOFFSETFROM:-0500
TZOFFSETTO:-0400
TZNAME:EDT
DTSTART:20200308T070000
END:DAYLIGHT
BEGIN:STANDARD
TZOFFSETFROM:-0400
TZOFFSETTO:-0500
TZNAME:EST
DTSTART:20201101T060000
END:STANDARD
BEGIN:DAYLIGHT
TZOFFSETFROM:-0500
TZOFFSETTO:-0400
TZNAME:EDT
DTSTART:20210314T070000
END:DAYLIGHT
BEGIN:STANDARD
TZOFFSETFROM:-0400
TZOFFSETTO:-0500
TZNAME:EST
DTSTART:20211107T060000
END:STANDARD
END:VTIMEZONE
BEGIN:VEVENT
DTSTART;VALUE=DATE:20201114
DTEND;VALUE=DATE:20201219
DTSTAMP:20260420T115346
CREATED:20190606T154920Z
LAST-MODIFIED:20190606T154920Z
UID:8039-1605312000-1608335999@lakegeorgearts.org
SUMMARY:Steve Rosenzweig
DESCRIPTION:   \n\n“A BELLYFUL of SAWDUST”: new work by Steve Rosenzweig​ \nThis exhibition is installed in the gallery\, and available for the public to view. \n\n\nWe are committed to public safety within our Up-State NY community and beyond\, and want everyone to stay strong\, safe\, and healthy. All entering our office and gallery space will need to wear a mask and will be asked to sign in with their name and two points of contact (email\, address\, and/or phone number). We will admit no more than 5 people at a time in the gallery\, with max of 30 minute time frame.  We will provide masks for those that need one\, and provide hand sanitizing stations throughout our space.  We suggest that you contact the gallery before your visit\, since NYS guidelines related to Covid-19 may change. Call 518-323-5499\, ​or ​email mail@lakegeorgarts.org. \nIn place of on-site gallery reception\, we presented a Live Online Talk with Steve Rosenzweig​ on November 14 at 4 pm. \nIf you missed our that talk\, check out the video below\, where you can view Steve Rosenzweig and Lake George Arts Project’s Gallery Director\, Laura Von Rosk\, discuss Steve’s solo exhibition at the Courthouse Gallery. This walk around the gallery was filmed on November 18\, 2020. \n\n\n \nTo view slideshow of work in the exhibition CLICK HERE\nTo view pricelist of work for sale CLICK HERE\nView Steve’s interview with LOOK TV HERE \n\nAbout the Artist: \nSteve Rosenzweig’s materials include metal\, wood\, canvas\, plastic\, and paint. Working spontaneously\, these materials are cut\, bolted\, burned\, stretched\, melted\, or poured into works that are developed with no blueprint or specific plan. The pieces evolve as they are being constructed. Rosenzweig’s process relies in improvisation\, essential for invention and discovery\, as well as deliberation and precision\, needed for constructing 3-D works on and off the wall. \nHe says: “Moving through the stretches that mark my time in the studio\, each new series is typically prompted by a blend of specific and hazy motivators. In this latest spell\, I found myself looking at Baroque still life paintings. These were of commonplace objects\, both natural and man-made\, and often created without a deliberate expression of allegory or symbolism… My first piece in this sculptural gambit was a simple still life – a vase of roses\, carved in wood. Allowing the principle elements to remain representational\, I simultaneously engaged my toolbox of bold textures\, dissonant shapes and vibrant colors in an effort to find a pulse and generate some energy. This sparked another 3D still life\, and then another.” \nReferring to his new work in this exhibition he says: “Psychedelic\, cut-out shapes and saturated matte colors became a nod to animation cels and the cartoons I loved as a kid. Kooky characters and loose gestures emerged\, as if I was channeling my prepubescent self – someone who would incessantly doodle in the margins of my notebooks in school.” \nSteve Rosenzweig​ ​earned his Bachelor of Fine Arts in Painting and Printmaking from SUNY Purchase. After receiving his BFA\, he moved to NYC and worked as a studio assistant to internationally recognized artist\, Red Grooms. Soon after\, he embarked on a decades-long stretch working as a Production Designer in the film\, television and theater businesses. He has been involved in projects spanning Independent movies\, Dr. Seuss-inspired children’s TV programming\, to a stage production which premiered at the Salzburg Opera Festival. Rosenzweig’s work is in the collection of the Beinecke Library at Yale University\, and in private collections both regionally and in Europe. Recently he was commissioned to create paintings for set decoration for ABC and Warner Brothers Television. He currently lives and works in New York State’s Hudson Valley. \nThe Courthouse Gallery is located at the side entrance of the Old County Courthouse\, corner of Canada and Lower Amherst Streets\, Lake George\, NY.  Hours during exhibitions are Wednesday through Friday 12 – 5 pm\, Saturday 12 – 4 pm\, and all other times by appointment. \nPlease NOTE: Regular Gallery hours may change due to the COVID-19 health emergency.  For updates please call 518-668-2616\, ​or ​email laura@lakegeorgarts.org\, or visit www.lakegeorgearts.org. \nThis exhibition is funded in part by the Town and Village of Lake George; the Alfred Z. Solomon Charitable Trust; 518 Profiles; Price Chopper’s Golub Foundation\, Stewart’s Shops and the Dake Family Foundations\, and LGAP members.  Please Join us today! \nthank you to our sponsors:\n          
URL:https://lakegeorgearts.org/event/steve-rosenzweig-3/
LOCATION:Courthouse Gallery\, 1 Amherst St\, Lake George\, NY\, 12845\, United States
CATEGORIES:Courthouse Gallery
ATTACH;FMTTYPE=:
END:VEVENT
END:VCALENDAR