BEGIN:VCALENDAR
VERSION:2.0
PRODID:-//Lake George Arts Project - ECPv6.15.20//NONSGML v1.0//EN
CALSCALE:GREGORIAN
METHOD:PUBLISH
X-ORIGINAL-URL:https://lakegeorgearts.org
X-WR-CALDESC:Events for Lake George Arts Project
REFRESH-INTERVAL;VALUE=DURATION:PT1H
X-Robots-Tag:noindex
X-PUBLISHED-TTL:PT1H
BEGIN:VTIMEZONE
TZID:America/New_York
BEGIN:DAYLIGHT
TZOFFSETFROM:-0500
TZOFFSETTO:-0400
TZNAME:EDT
DTSTART:20230312T070000
END:DAYLIGHT
BEGIN:STANDARD
TZOFFSETFROM:-0400
TZOFFSETTO:-0500
TZNAME:EST
DTSTART:20231105T060000
END:STANDARD
BEGIN:DAYLIGHT
TZOFFSETFROM:-0500
TZOFFSETTO:-0400
TZNAME:EDT
DTSTART:20240310T070000
END:DAYLIGHT
BEGIN:STANDARD
TZOFFSETFROM:-0400
TZOFFSETTO:-0500
TZNAME:EST
DTSTART:20241103T060000
END:STANDARD
BEGIN:DAYLIGHT
TZOFFSETFROM:-0500
TZOFFSETTO:-0400
TZNAME:EDT
DTSTART:20250309T070000
END:DAYLIGHT
BEGIN:STANDARD
TZOFFSETFROM:-0400
TZOFFSETTO:-0500
TZNAME:EST
DTSTART:20251102T060000
END:STANDARD
BEGIN:DAYLIGHT
TZOFFSETFROM:-0500
TZOFFSETTO:-0400
TZNAME:EDT
DTSTART:20260308T070000
END:DAYLIGHT
BEGIN:STANDARD
TZOFFSETFROM:-0400
TZOFFSETTO:-0500
TZNAME:EST
DTSTART:20261101T060000
END:STANDARD
END:VTIMEZONE
BEGIN:VEVENT
DTSTART;TZID=America/New_York:20250110T080000
DTEND;TZID=America/New_York:20250301T170000
DTSTAMP:20260420T183557
CREATED:20250113T214314Z
LAST-MODIFIED:20250206T185543Z
UID:16903-1736496000-1740848400@lakegeorgearts.org
SUMMARY:Project Local: Vincent Woolley Photographs through March 1st
DESCRIPTION:Bio \nAs a graduate of William and Mary College with a degree in teaching\, Woolley decided that sitting in a classroom was not really where he wanted to be. His love of art and the outdoors led him to the life of a photographer\, and although he worked in many fields of photography\, landscape photography is his real love. His early work was influenced by photographers Edward Weston\, Ansel Adams\, Minor Whyte\, and Wynn Bullock.  \nHe soon developed his own style which was more personal and abstract.  Most of his early work was done with a 4 x 5 View Camera shooting black and white; today he works with digital cameras in both black and white and color. \nHe was awarded a grant to photograph in Antarctica in 2015. Previous exhibitions include: Little Church Gallery\, NJ After Image Gallery\, Dallas\, TX The Courthouse Gallery\, Lake George Various galleries in Florida Publications: Southwest Photo Dallas Photo Adirondack Life \n			\n			\n				\n				\n				\n				\n				\n				\n				\n				\n				\n				Artist’s Reception at the Caldwell-Lake George LibraryMonday\, February 10th6:00 – 8:00 PM \n			\n				\n				\n				\n				\n				Artist’s Statement \nThe work you will see in this exhibition covers many years.  As a landscape photographer\, my work includes anything that I find beautiful.  My favorite subjects include the Southwest\, ice\, river foam\, and water reflections\, all of which you can see here. I really like pictures that make you think and take a while to figure out. As my perception of the world around me changes\, so will my photos!  Enjoy! \n  \n			\n				\n				\n				\n				\n				Images: Top: Detail\, Ice Curtain Left: Fall Aspens \n			\n			\n				\n				\n				\n				\n			\n				\n				\n				\n				\n				\n				\n				\n				\n				\n				\n				\n			\n			\n				\n				\n				\n				\n				\n				\n				\n				\n				\n				The Caldwell-Lake George Library336 Canada StreetLakeGeorge\, NY 12845518-668-2528
URL:https://lakegeorgearts.org/event/project-local-vincent-woolley-photographs-through-march-1st/
LOCATION:The Caldwell Lake George Library\, 336 Canada St\, Lake George\, New York\, 12845
CATEGORIES:Project Local Exhibition
ATTACH;FMTTYPE=image/jpeg:https://lakegeorgearts.org/wp-content/uploads/2025/01/Woolley-ice-curtain-1920-x-1080-px.jpg
END:VEVENT
BEGIN:VEVENT
DTSTART;TZID=America/New_York:20241106T180000
DTEND;TZID=America/New_York:20241106T200000
DTSTAMP:20260420T183557
CREATED:20241026T192739Z
LAST-MODIFIED:20241106T110602Z
UID:16208-1730916000-1730923200@lakegeorgearts.org
SUMMARY:Project Local Reception: Mark Grimaldi Paintings & Jude Dolton Photogrpahs
DESCRIPTION:Join LGAP staff\, Library staff\, and our Project Local featured artists for a celebration of our newest Project Local Exhibition at the Caldwell Lake George Library. The reception is an opportunity to connect with our featured artists\, appreciate their work\, and support the arts and artists who live and work in our region. \n			\n			\n				\n				\n				\n				\n			\n				\n				\n				\n				\n				\n				\n				\n				\n				\n				\n				FEATURED ARTISTS\n			\n			\n				\n				\n				\n				\n			\n				\n				\n				\n				\n				\n				\n				\n				\n				\n				\n				Mark Grimaldi\nGrimaldi is renowned for his expertise in abstract expressionism; his artistic journey is deeply influenced by the iconic American artist\, Jackson Pollock. With a portfolio of work found in studios\, professional offices\, and private collections\, his style captivates viewers worldwide. \nMastering the “drip” technique over years of dedication\, Grimaldi infused his distinct flair into this iconic method. Seeking innovation\, he adapted the technique to diverse surfaces\, including elevated vertical planes\, without revealing traditional “drips.” \nHe also envisioned reimagining the spectrum of objects suitable for this style\, enriching each with narrative depth and emotive resonance. Through meticulousexperimentation\, Grimaldi perfected the fusion of paint type and application method\, achieving his envisioned results. \nEvery creation bears the essence of his soul\, ensuring each piece is a singular\, unparalleled original. Rejecting mass production\, he remains committed to the authenticity of his craft\, eschewing prints in favor of genuine\, intimate artworks. \nMark lives in Lake George. His work is shown at the Tivoli Arts Gallery in Tivoli\, NY\, and Art Gallery 71 in Rhinebeck\, NY\, and can be seen at markgrimaldi.com. \n			\n				\n				\n				\n				\n				\n			\n			\n				\n				\n				\n				\n				\n				\n				\n				\n				\n				Jude Dolton\nYou see something\, you pull out your camera and take the picture.  That picture is almost exactly what you see in front of you right?  That’s what photography is at its core\, it’s a way to capture the world.  Since almost everyone has a camera in their pocket\, we are seeing the same photos over\, and over.  The more I have noticed this\, the more I have turned away from just documenting what I’m seeing.  Using long exposures\, I have been taking a more impressionistic approach.  I use the term Impressionism because much like the paintings from that era\, even with objects and subject matter you can identify the work is very much still abstract. \nJude Dolton is a 2019 graduate of Glens Falls High School. In 2022 they received a grant to photograph and document local motel signs resulting in a solo exhibition at the Warren County Historical Society.  She has exhibited locally with the Lower Adirondack Regional Arts Council\, North Country Arts\, and The Folklife Center at Crandall Library. Their work was also featured in the Top 100 Juried High School Student Art Show at The Hyde Collection (2018). She currently studies Visual Arts at Alfred University\, Alfred\, NY.
URL:https://lakegeorgearts.org/event/https-lakegeorgearts-org-event-project-local-at-the-caldwell-lake-george-library/
LOCATION:The Caldwell Lake George Library\, 336 Canada St\, Lake George\, New York\, 12845
CATEGORIES:Project Local Exhibition
ATTACH;FMTTYPE=image/png:https://lakegeorgearts.org/wp-content/uploads/2024/10/Projectlocalevent11.12.24Instagram-Post-1920-x-1080-px.png
END:VEVENT
END:VCALENDAR