BEGIN:VCALENDAR
VERSION:2.0
PRODID:-//Lake George Arts Project - ECPv6.15.20//NONSGML v1.0//EN
CALSCALE:GREGORIAN
METHOD:PUBLISH
X-ORIGINAL-URL:https://lakegeorgearts.org
X-WR-CALDESC:Events for Lake George Arts Project
REFRESH-INTERVAL;VALUE=DURATION:PT1H
X-Robots-Tag:noindex
X-PUBLISHED-TTL:PT1H
BEGIN:VTIMEZONE
TZID:America/New_York
BEGIN:DAYLIGHT
TZOFFSETFROM:-0500
TZOFFSETTO:-0400
TZNAME:EDT
DTSTART:20180311T070000
END:DAYLIGHT
BEGIN:STANDARD
TZOFFSETFROM:-0400
TZOFFSETTO:-0500
TZNAME:EST
DTSTART:20181104T060000
END:STANDARD
BEGIN:DAYLIGHT
TZOFFSETFROM:-0500
TZOFFSETTO:-0400
TZNAME:EDT
DTSTART:20190310T070000
END:DAYLIGHT
BEGIN:STANDARD
TZOFFSETFROM:-0400
TZOFFSETTO:-0500
TZNAME:EST
DTSTART:20191103T060000
END:STANDARD
BEGIN:DAYLIGHT
TZOFFSETFROM:-0500
TZOFFSETTO:-0400
TZNAME:EDT
DTSTART:20200308T070000
END:DAYLIGHT
BEGIN:STANDARD
TZOFFSETFROM:-0400
TZOFFSETTO:-0500
TZNAME:EST
DTSTART:20201101T060000
END:STANDARD
END:VTIMEZONE
BEGIN:VEVENT
DTSTART;TZID=America/New_York:20190710T190000
DTEND;TZID=America/New_York:20190710T190000
DTSTAMP:20260420T200516
CREATED:20190527T172220Z
LAST-MODIFIED:20190527T172220Z
UID:8027-1562785200-1562785200@lakegeorgearts.org
SUMMARY:Summer Concert Series: Frank Vignola’s Hot Jazz Guitar Trio
DESCRIPTION:Frank Vignola is one of the most extraordinary guitarists performing before the public today. His stunning virtuosity has made him the guitarist of choice for many of the world’s top musicians\, including Ringo Starr\, Madonna\, Donald Fagen\, Wynton Marsalis\, Tommy Emmanuel\, the Boston Pops\, the New York Pops\, and guitar legend Les Paul\, who named Vignola to his “Five Most Admired Guitarists List” for the Wall Street Journal. Vignola’s jaw dropping technique explains why the New York Times deemed him “one of the brightest stars of the guitar”. \nHe will be joined by long-time collaborator Vinny Ranioli and the brilliant young guitarist\, Jan Knutson. \nVinny Raniolo and his dynamic playing has brought him to 18 countries performing alongside Frank Vignola\, Tommy Emmanuel\, Vince Giordano\, and Deana Martin. Vinny has also been featured on three PBS Music shows including the heavily programmed Tommy Emmanuel and Friends\, Frank Vignola’s Four Generations of Guitar\, and in the Music Gone Public series. Film and recording credits include soundtracks and on-screen appearances for HBO’s “Boardwalk Empire”\, Woody Allen’s film “Café Society” and Martin Scorsese’s “The Irishman”. \nJan Knutson is an extremely versatile musician. This talented young guitarist has performed at major venues across the country. Jan was a 2016 Strathmore Artist\, was featured at the 2017 Richmond Folk Festival\, and has had the honor of performing with such luminaries as Bucky Pizzarelli\, Julian Lage\, and Martin Taylor. Jan has recorded two solo CDs and currently studies with Rodney Jones at the Manhattan School of Music. \n 
URL:https://lakegeorgearts.org/event/frank-vignolas-hot-jazz-guitar-trio-3/
LOCATION:Shepard Park\, Canada Street\, Lake George\, NY\, 12845\, United States
CATEGORIES:Summer Concert Series
END:VEVENT
END:VCALENDAR