BEGIN:VCALENDAR
VERSION:2.0
PRODID:-//Lake George Arts Project - ECPv6.15.20//NONSGML v1.0//EN
CALSCALE:GREGORIAN
METHOD:PUBLISH
X-WR-CALNAME:Lake George Arts Project
X-ORIGINAL-URL:https://lakegeorgearts.org
X-WR-CALDESC:Events for Lake George Arts Project
REFRESH-INTERVAL;VALUE=DURATION:PT1H
X-Robots-Tag:noindex
X-PUBLISHED-TTL:PT1H
BEGIN:VTIMEZONE
TZID:America/New_York
BEGIN:DAYLIGHT
TZOFFSETFROM:-0500
TZOFFSETTO:-0400
TZNAME:EDT
DTSTART:20180311T070000
END:DAYLIGHT
BEGIN:STANDARD
TZOFFSETFROM:-0400
TZOFFSETTO:-0500
TZNAME:EST
DTSTART:20181104T060000
END:STANDARD
BEGIN:DAYLIGHT
TZOFFSETFROM:-0500
TZOFFSETTO:-0400
TZNAME:EDT
DTSTART:20190310T070000
END:DAYLIGHT
BEGIN:STANDARD
TZOFFSETFROM:-0400
TZOFFSETTO:-0500
TZNAME:EST
DTSTART:20191103T060000
END:STANDARD
BEGIN:DAYLIGHT
TZOFFSETFROM:-0500
TZOFFSETTO:-0400
TZNAME:EDT
DTSTART:20200308T070000
END:DAYLIGHT
BEGIN:STANDARD
TZOFFSETFROM:-0400
TZOFFSETTO:-0500
TZNAME:EST
DTSTART:20201101T060000
END:STANDARD
END:VTIMEZONE
BEGIN:VEVENT
DTSTART;TZID=America/New_York:20190814T190000
DTEND;TZID=America/New_York:20190814T190000
DTSTAMP:20260420T165037
CREATED:20190527T190023Z
LAST-MODIFIED:20190527T190023Z
UID:8031-1565809200-1565809200@lakegeorgearts.org
SUMMARY:Summer Concert Series: The McKrells
DESCRIPTION:The McKrells are one of the Capital District’s most well-known Irish and bluegrass acts\, who performed at the top of the local music scene for 15 years before taking a hiatus in 2006. Folk singer\, songwriter\, and artist Kevin McKrell has had his songs recorded and performed by artists from around the world. He has performed in theaters\, clubs\, and on festival stages across the United States\, Canada\, Ireland and the U.K. \nLed by Kevin\, the New McKrell’s is a high energy collective and a who’s who of North Country Roots Music\, each player a top draw in their own right. John Kribs is a songwriter and multi-instrumentalist who is known throughout the Northeast for the classic roots rock band Johnny and the Triumphs\, along with the beloved Raquette River Rounders. \nOn mandolin is Orion Kribs\, a world-class string player capable of break neck speed and nuanced solo work so crucial to the McKrell sound. \nArlin Greene is the bass backbone of the group\, a member of a musical family that has attained legendary status in the northeast. Son of the great Smokey Greene\, he is a bassist of exceptional abilities\, whether it is a high energy bluegrass stomp or one of McKrells’ Celtic ballads. \nOn percussion is Brian Melick\, an active teacher and instrumentalist that has been featured on over 375 professional recordings. \nOn fiddle is Doug Moody\, a Buffalo N.Y. legend for his work with the alt-country band The Steam Donkeys. \nWith each player in The New McKrells capable of lead singer status\, the harmony vocals of this collective of like-minded musicians are stunning\, the energy explosive\, and each song a gem. They have been called amazing\, stunning\, brilliant … McKrellica.
URL:https://lakegeorgearts.org/event/summer-concert-series-the-mckrells-3/
LOCATION:NY
CATEGORIES:Summer Concert Series
END:VEVENT
END:VCALENDAR