BEGIN:VCALENDAR
VERSION:2.0
PRODID:-//Lake George Arts Project - ECPv6.15.20//NONSGML v1.0//EN
CALSCALE:GREGORIAN
METHOD:PUBLISH
X-ORIGINAL-URL:https://lakegeorgearts.org
X-WR-CALDESC:Events for Lake George Arts Project
REFRESH-INTERVAL;VALUE=DURATION:PT1H
X-Robots-Tag:noindex
X-PUBLISHED-TTL:PT1H
BEGIN:VTIMEZONE
TZID:America/New_York
BEGIN:DAYLIGHT
TZOFFSETFROM:-0500
TZOFFSETTO:-0400
TZNAME:EDT
DTSTART:20180311T070000
END:DAYLIGHT
BEGIN:STANDARD
TZOFFSETFROM:-0400
TZOFFSETTO:-0500
TZNAME:EST
DTSTART:20181104T060000
END:STANDARD
BEGIN:DAYLIGHT
TZOFFSETFROM:-0500
TZOFFSETTO:-0400
TZNAME:EDT
DTSTART:20190310T070000
END:DAYLIGHT
BEGIN:STANDARD
TZOFFSETFROM:-0400
TZOFFSETTO:-0500
TZNAME:EST
DTSTART:20191103T060000
END:STANDARD
BEGIN:DAYLIGHT
TZOFFSETFROM:-0500
TZOFFSETTO:-0400
TZNAME:EDT
DTSTART:20200308T070000
END:DAYLIGHT
BEGIN:STANDARD
TZOFFSETFROM:-0400
TZOFFSETTO:-0500
TZNAME:EST
DTSTART:20201101T060000
END:STANDARD
END:VTIMEZONE
BEGIN:VEVENT
DTSTART;TZID=America/New_York:20190828T190000
DTEND;TZID=America/New_York:20190828T203000
DTSTAMP:20260420T133458
CREATED:20190603T022058Z
LAST-MODIFIED:20190603T022058Z
UID:8034-1567018800-1567024200@lakegeorgearts.org
SUMMARY:Lake George Arts Project Summer Concert Series: Big Medicine
DESCRIPTION:Based in Saratoga Springs\, NY\, Big Medicine has been exciting audiences from Albany to Lake George and beyond for a decade and a half. Performing for local venues\, festivals\, weddings\, television – events of all kinds – public and private. \nThe band is led by Jeff Walton on guitar\, harmonica and vocals\, and features the beautiful voice of Becky Walton. Tim Wechgelaer plays violin\, mandolin and guitar; Rick Bolton is on lead guitar; and Pat Perkinson and Mike Lomaestro hold it down on bass and drums. \nStrong vocals and harmonies by all members are accompanied by supple R&B and folk-rock grooves with rich acoustic-based textures. A healthy dose of originals\, seductive renditions of songs by others\, and an unbridled creative energy… great reasons to check out Big Medicine.
URL:https://lakegeorgearts.org/event/summer-concert-series-big-medicine-3/
LOCATION:Shepard Park\, Canada Street\, Lake George\, NY\, 12845\, United States
CATEGORIES:Summer Concert Series
END:VEVENT
END:VCALENDAR