BEGIN:VCALENDAR
VERSION:2.0
PRODID:-//Lake George Arts Project - ECPv6.15.20//NONSGML v1.0//EN
CALSCALE:GREGORIAN
METHOD:PUBLISH
X-WR-CALNAME:Lake George Arts Project
X-ORIGINAL-URL:https://lakegeorgearts.org
X-WR-CALDESC:Events for Lake George Arts Project
REFRESH-INTERVAL;VALUE=DURATION:PT1H
X-Robots-Tag:noindex
X-PUBLISHED-TTL:PT1H
BEGIN:VTIMEZONE
TZID:America/New_York
BEGIN:DAYLIGHT
TZOFFSETFROM:-0500
TZOFFSETTO:-0400
TZNAME:EDT
DTSTART:20210314T070000
END:DAYLIGHT
BEGIN:STANDARD
TZOFFSETFROM:-0400
TZOFFSETTO:-0500
TZNAME:EST
DTSTART:20211107T060000
END:STANDARD
BEGIN:DAYLIGHT
TZOFFSETFROM:-0500
TZOFFSETTO:-0400
TZNAME:EDT
DTSTART:20220313T070000
END:DAYLIGHT
BEGIN:STANDARD
TZOFFSETFROM:-0400
TZOFFSETTO:-0500
TZNAME:EST
DTSTART:20221106T060000
END:STANDARD
BEGIN:DAYLIGHT
TZOFFSETFROM:-0500
TZOFFSETTO:-0400
TZNAME:EDT
DTSTART:20230312T070000
END:DAYLIGHT
BEGIN:STANDARD
TZOFFSETFROM:-0400
TZOFFSETTO:-0500
TZNAME:EST
DTSTART:20231105T060000
END:STANDARD
END:VTIMEZONE
BEGIN:VEVENT
DTSTART;TZID=America/New_York:20220916T180000
DTEND;TZID=America/New_York:20220916T200000
DTSTAMP:20260419T092455
CREATED:20220809T143250Z
LAST-MODIFIED:20220809T145250Z
UID:7432-1663351200-1663358400@lakegeorgearts.org
SUMMARY:Chembo Corniel Quintet
DESCRIPTION:September 16 @ 6pm\n			\n			\n				\n				\n				\n				\n			\n				\n				\n				\n				\n				\n				\n				\n				\n				\n				\n				Chembo Corniel Quintet\nHery Paz – tenor sax / fluteCarlos Cuevas – pianoAlex “Apolo” Ayala – bassJoel E. Mateo – drumsChembo Corniel – congas / percussionPercussionist & GRAMMY nominee Wilson “Chembo” Corniel was raised in the humble streets of Red Hook\, Brooklyn. It was during these years as a quick-witted youngster that he had the privilege and honor to study with luminaries of the Afro-Caribbean percussion tradition\, such as Tommy Lopez Sr.\, “Little Ray” Romero\, Louie Bauzo and Cachete Maldonado. Chembo honed his skills at The Harbor Conservatory for the Performing Arts in New York and at the prestigious La Escuela Nacional de Arte in Havana\, Cuba under the direction of the great Chucho Valdés.His intense studies with such legends channeled his energy onto a path where he has now created a reputation for himself among musicians and the public. Today\, he is considered as one of the best hard-hitting\, versatile percussionists around. Chembo has toured with many major artists throughout Europe\, Asia\, North & South America\, and the Caribbean. He received a GRAMMY nomination for “Best Latin Jazz Album” for his CD release Things I Wanted To Do.As a part of this evening’s program\, a long-time collaborator and friend\, poet and spoken word artist David Gonzalez will join the group on stage. \n			\n			\n				\n				\n				\n				\n				\n				\n				\n				\n				\n				\n			\n				Artist's Website
URL:https://lakegeorgearts.org/event/chembo-corniel-quintet/
LOCATION:NY
CATEGORIES:Jazz at the lake
ATTACH;FMTTYPE=image/jpeg:https://lakegeorgearts.org/wp-content/uploads/2022/07/Aaron-Davis-photo-shot-300x300-1.jpeg
END:VEVENT
END:VCALENDAR