BEGIN:VCALENDAR
VERSION:2.0
PRODID:-//Lake George Arts Project - ECPv6.15.20//NONSGML v1.0//EN
CALSCALE:GREGORIAN
METHOD:PUBLISH
X-WR-CALNAME:Lake George Arts Project
X-ORIGINAL-URL:https://lakegeorgearts.org
X-WR-CALDESC:Events for Lake George Arts Project
REFRESH-INTERVAL;VALUE=DURATION:PT1H
X-Robots-Tag:noindex
X-PUBLISHED-TTL:PT1H
BEGIN:VTIMEZONE
TZID:America/New_York
BEGIN:DAYLIGHT
TZOFFSETFROM:-0500
TZOFFSETTO:-0400
TZNAME:EDT
DTSTART:20230312T070000
END:DAYLIGHT
BEGIN:STANDARD
TZOFFSETFROM:-0400
TZOFFSETTO:-0500
TZNAME:EST
DTSTART:20231105T060000
END:STANDARD
BEGIN:DAYLIGHT
TZOFFSETFROM:-0500
TZOFFSETTO:-0400
TZNAME:EDT
DTSTART:20240310T070000
END:DAYLIGHT
BEGIN:STANDARD
TZOFFSETFROM:-0400
TZOFFSETTO:-0500
TZNAME:EST
DTSTART:20241103T060000
END:STANDARD
BEGIN:DAYLIGHT
TZOFFSETFROM:-0500
TZOFFSETTO:-0400
TZNAME:EDT
DTSTART:20250309T070000
END:DAYLIGHT
BEGIN:STANDARD
TZOFFSETFROM:-0400
TZOFFSETTO:-0500
TZNAME:EST
DTSTART:20251102T060000
END:STANDARD
END:VTIMEZONE
BEGIN:VEVENT
DTSTART;TZID=America/New_York:20240914T170000
DTEND;TZID=America/New_York:20240914T181500
DTSTAMP:20260419T184859
CREATED:20240425T130237Z
LAST-MODIFIED:20240514T091639Z
UID:13390-1726333200-1726337700@lakegeorgearts.org
SUMMARY:Ulysses Owens Jr. & Generation Y
DESCRIPTION:About Ulysses Owens Jr. \nThree time Grammy™ Award-Winning Drummer Ulysses Owens Jr.\, known for being a drummer who (The New York Times) has said “take[s] a back seat to no one\,” and “a musician who balances excitement gracefully and shines with innovation.” Performer\, producer and educator Ulysses Owens Jr. goes the limit in the jazz world and beyond; claiming eight successful albums of his own. \nOwens has also gained special attention for his performances on GRAMMY Award-winning albums by Kurt Elling and The Christian McBride Big Band . In addition to five GRAMMY Award Nominated albums with Joey Alexander\, Christian McBride Trio\, John Beasley’s Monk’estra\, and Gregory Porter. Both Jazziz and Rolling Stone Magazines picked his album “Songs of Freedom\,” as a Top Ten Album for 2019 and in 2021; his most recent Big Band release\, “Soul Conversations\,” was voted the top album in May 2021 by JazzIz Magazine. “Soul Conversations\,” received rave reviews and was added to multiple playlists on Apple Music\, Spotify\, and Sirius XM; and now the band is touring nationally. The Ulysses Owens Jr. Big Band has also been voted “Rising Star Big Band ” of 2022 by Downbeat Magazine. His upcoming eighth album release A New Beat\, will feature his new “Generation Y” Band on the Cellar Jazz record label. The album was produced by Jeremy Pelt and recorded at the legendary Rudy Van Gelder Studios\, in New Jersey. \nAbout Generation Y\nGeneration Y is a band concept that was conceived back in 2019 with the goal promoting the next generation of dynamic talent from the top music conservatories in NYC and beyond. Led by Ulysses Owens Jr. who is a Multi Grammy Award-winning Drummer\, Producer\, Educator\, Author and Cultural Entrepreneur. \nServing at The Juilliard School in the role of Small Ensemble Director within the Jazz Department for the last 8 years\, has given Ulysses a front row seat to this Generation’s top talent. Ulysses Owens Jr.\, has been the driving force behind such great artists as Nicholas Payton\, Christian McBride\, Wynton Marsalis\, Mulgrew Miller\, Joey Alexander and many others. Through his relationship with these great bandleaders he learned of the legacy of Art Blakey and Betty Carter\, both of whom were renowned for their own bands (which became educational institutions) and launched the careers of many of today’s paradigm-shifting musicians on the jazz scene. Generation Y is an updated model of the Jazz Messengers\, and many of these band members also perform in Ulysses’ big band. \nThe band just recorded their debut album “A New Beat” that will be released on the Cellar Live Record label\, in January 2024. The material on this album is a culmination of repertoire from Ulysses’ influences and mentors like Mulgrew Miller\, Roy Hargrove\, George Cables\, and of course the great Art Blakey. This album also features a few original compositions from Benny Benack\, Anthony Hervey\, and the very talented Luther Allison who is an emerging talent performing with Grammy Award-winning vocalist\, Samara Joy as her pianist. The album also features a classic from Louis Armstrong titled Heart Full of Rhythm featuring Milton Suggs\, which learned during his time as the Louis Armstrong Museum ‘“Armstrong Now Artist in Residence.” This album is a culmination of repertoire that has been performed by this band around the world over the last 4 years and to add another level of nostalgia; it was recorded at the Legendary Rudy Van Gelder Studios in Englewood\, NJ. \n			\n			\n				\n				\n				\n				\n			\n				\n				\n			\n				\n				\n				\n				\n				\n				\n				\n				\n				\n				\n				\n				\n				\n				\n				\n				\n				\n				Ulysses Owens Jr. – Drums\nAnthony Hervey – Trumpet\nErena Terakubo – Alto Saxophone\nTyler Bullock – Piano\nGuillermo Lopez – Bass\n			\n			\n				\n				\n				\n				\n				\n				\n				\n				\n				\n				\n			\n			\n				\n				\n				\n				\n			\n				\n				\n			\n				\n				\n				\n				\n				\n				\n				\n				\n				\n				\n				\n				\n				\n				\n				\n				\n				\n				MUSIC\n\n			\n			\n				\n				\n				\n				\n			\n				\n				\n				\n				\n				\n				\n				\n				\n				\n				\n				One By One – Ulysses Owens Jr and Generation Y\n			\n				\n				\n				\n				\n				I’m Not So Sure – Ulysses Owens Jr & Generation Y\n			\n			\n				\n				\n				\n				\n				\n				\n				\n				\n				\n				\n			\n				\n				\n				\n				\n				\n			\n			\n				\n				\n				\n				\n			\n				\n				\n				\n				\n				\n				\n				Learn More about Ulysses Owens Jr.\n			\n			\n				\n				\n				\n				\n			\n				\n				\n			\n				\n				\n				\n				\n				\n				\n				\n				\n				\n				\n				\n				\n				\n			\n				\n				\n				\n				\n			\n				\n				\n				\n				\n				\n				\n				\n				\n				\n				\n				4 DAYS • 17 SHOWS • 4 SPECIAL EVENTSCELEBRATING 40 YEARS!\n			\n			\n				\n				\n				\n				\n			\n				\n				\n				\n				\n				\n				\n				\n				\n				\n				\n				THURSDAY 9/12 @ 6PM \n			\n				\n				\n				\n				\n				\n			\n				\n				\n				\n				\n				SATURDAY 9/14 @ 1PM \n			\n				\n				\n				\n				\n				\n			\n				\n				\n				\n				\n				SUNDAY 9/15 @ 10AM \n			\n				\n				\n				\n				\n				\n			\n			\n				\n				\n				\n				\n				\n				\n				\n				\n				\n				FRIDAY 9/13 @ 6PM \n			\n				\n				\n				\n				\n				\n			\n				\n				\n				\n				\n				SATURDAY 9/14 @ 3PM \n			\n				\n				\n				\n				\n				\n			\n				\n				\n				\n				\n				SUNDAY 9/15 @ 1PM \n			\n				\n				\n				\n				\n				\n			\n			\n				\n				\n				\n				\n				\n				\n				\n				\n				\n				FRIDAY 9/13 @ 7:30PM \n			\n				\n				\n				\n				\n				\n			\n				\n				\n				\n				\n				SATURDAY 9/14 @ 5PM \n			\n				\n				\n				\n				\n				\n			\n				\n				\n				\n				\n				SUNDAY 9/15 @ 3PM \n			\n				\n				\n				\n				\n				\n			\n			\n				\n				\n				\n				\n				\n				\n				\n				\n				\n				SATURDAY 9/14 @ 9AM \n			\n				\n				\n				\n				\n				\n			\n				\n				\n				\n				\n				SATURDAY 9/14 @ 8PM \n			\n				\n				\n				\n				\n				\n			\n				\n				\n				\n				\n				SUNDAY 9/15 @ 5PM
URL:https://lakegeorgearts.org/event/ulysses-owens-jr-generation-y/
LOCATION:Shepard Park\, Canada Street\, Lake George\, NY\, 12845\, United States
CATEGORIES:Jazz at the lake
ATTACH;FMTTYPE=image/png:https://lakegeorgearts.org/wp-content/uploads/2024/04/5-2.png
END:VEVENT
BEGIN:VEVENT
DTSTART;TZID=America/New_York:20240914T200000
DTEND;TZID=America/New_York:20240914T211500
DTSTAMP:20260419T184859
CREATED:20240425T131208Z
LAST-MODIFIED:20240426T100126Z
UID:13397-1726344000-1726348500@lakegeorgearts.org
SUMMARY:Nicole Zuraitis
DESCRIPTION:About Nicole\nNicole Zuraitis is a GRAMMY® Award-winning (2024) jazz singer-songwriter\, pianist and arranger\, New York-based bandleader\, and winner of the prestigious 2021 American Traditions Vocal Competition Gold Medal. With a “heart as big as her remarkable voice\,” (Jazz Police)\, Nicole has positioned herself as one of the top artists and “prolific songwriters” (Broadway World) to watch in jazz and beyond. As a recording artist\, Nicole has released five albums as leader\, and her sixth album How Love Begins\, co-produced with eight-time GRAMMY-winner Christian McBride (2023)\, features all original music and was awarded the GRAMMY for BEST JAZZ VOCAL ALBUM. In addition to leading her quartet\, Nicole is the premier vocalist for the Birdland Big Band and frequently headlines iconic NYC jazz clubs like Dizzy’s Club at Lincoln Center\, Birdland\, the Blue Note\, the Carlyle\, 54 Below and the late\, great 55 Bar. She has appeared as a featured soloist with the Savannah Philharmonic\, Asheville Symphony\, and Macon Pops\, and has supported iconic singers like Melanie\, Morgan James\, Darren Criss\, and Livingston Taylor on piano and vocals. Nicole’s arrangement of Dolly Parton’s Jolene\, co-written with renowned drummer and bandleader Dan Pugach\, was nominated for a 2019 GRAMMY®\, springboarding her career and making her a household name in the modern-day jazz landscape. \nIn 2020\, she was named in the top 40 under 40 for 2020 in Connecticut Magazine\, and her weekly livestream during the Covid-19 crisis\, “Virtual Piano Lounge\,” was featured in Forbes Magazine. Nicole has collaborated with an extensive list of luminaries\, including Christian McBride\, David Cook\, Gilad Hekselman\, Veronica Swift\, Benny Benack\, Stephen Feifke\, Cyrille Aimee\, Antonio Sanchez\, Dave Stryker\, Omar Hakim\, Rachel Z\, Helen Sung\, and Bernard Purdie. She is a proud educator and currently vocal faculty at NYU and SUNY Purchase. For more information\, visit www.nicolezmusic.com or tag @nicolezmusic. \n			\n			\n				\n				\n				\n				\n			\n				\n				\n			\n				\n				\n				\n				\n				\n				\n				\n				\n				\n				\n				\n				\n				\n				\n				\n				\n				\n				Nicole Zuraitis – Vocals/Piano\nDan Pugach – Drums\nIdan Morim – Guitar\nSam Weber – Bass\n			\n			\n				\n				\n				\n				\n				\n				\n				\n				\n				\n				\n			\n			\n				\n				\n				\n				\n			\n				\n				\n			\n				\n				\n				\n				\n				\n				\n				\n				\n				\n				\n				\n				\n				\n				\n				\n				\n				\n				HER MUSIC\n\n			\n			\n				\n				\n				\n				\n			\n				\n				\n				\n				\n				\n				\n				\n				\n				\n				\n				“Jolene” / Dolly Parton – Dan Pugach Nonet\n			\n				\n				\n				\n				\n				Burn (STUDIO VIDEO) – Nicole Zuraitis with Christian McBride\, Gilad Hekselman\, Billy Kilson\, David Cook\n			\n			\n				\n				\n				\n				\n				\n				\n				\n				\n				\n				\n			\n				\n				\n				\n				\n				\n			\n			\n				\n				\n				\n				\n			\n				\n				\n				\n				\n				\n				\n				Learn More about Nicole Zuraitis\n			\n			\n				\n				\n				\n				\n			\n				\n				\n			\n				\n				\n				\n				\n				\n				\n				\n				\n				\n				\n				\n				\n				\n			\n				\n				\n				\n				\n			\n				\n				\n				\n				\n				\n				\n				\n				\n				\n				\n				4 DAYS • 17 SHOWS • 4 SPECIAL EVENTSCELEBRATING 40 YEARS!\n			\n			\n				\n				\n				\n				\n			\n				\n				\n				\n				\n				\n				\n				\n				\n				\n				\n				THURSDAY 9/12 @ 6PM \n			\n				\n				\n				\n				\n				\n			\n				\n				\n				\n				\n				SATURDAY 9/14 @ 1PM \n			\n				\n				\n				\n				\n				\n			\n				\n				\n				\n				\n				SUNDAY 9/15 @ 10AM \n			\n				\n				\n				\n				\n				\n			\n			\n				\n				\n				\n				\n				\n				\n				\n				\n				\n				FRIDAY 9/13 @ 6PM \n			\n				\n				\n				\n				\n				\n			\n				\n				\n				\n				\n				SATURDAY 9/14 @ 3PM \n			\n				\n				\n				\n				\n				\n			\n				\n				\n				\n				\n				SUNDAY 9/15 @ 1PM \n			\n				\n				\n				\n				\n				\n			\n			\n				\n				\n				\n				\n				\n				\n				\n				\n				\n				FRIDAY 9/13 @ 7:30PM \n			\n				\n				\n				\n				\n				\n			\n				\n				\n				\n				\n				SATURDAY 9/14 @ 5PM \n			\n				\n				\n				\n				\n				\n			\n				\n				\n				\n				\n				SUNDAY 9/15 @ 3PM \n			\n				\n				\n				\n				\n				\n			\n			\n				\n				\n				\n				\n				\n				\n				\n				\n				\n				SATURDAY 9/14 @ 9AM \n			\n				\n				\n				\n				\n				\n			\n				\n				\n				\n				\n				SATURDAY 9/14 @ 8PM \n			\n				\n				\n				\n				\n				\n			\n				\n				\n				\n				\n				SUNDAY 9/15 @ 5PM
URL:https://lakegeorgearts.org/event/nicole-zuraitis/
LOCATION:Shepard Park\, Canada Street\, Lake George\, NY\, 12845\, United States
CATEGORIES:Jazz at the lake
ATTACH;FMTTYPE=image/png:https://lakegeorgearts.org/wp-content/uploads/2024/04/6-2.png
END:VEVENT
END:VCALENDAR