BEGIN:VCALENDAR
VERSION:2.0
PRODID:-//Lake George Arts Project - ECPv6.15.20//NONSGML v1.0//EN
CALSCALE:GREGORIAN
METHOD:PUBLISH
X-WR-CALNAME:Lake George Arts Project
X-ORIGINAL-URL:https://lakegeorgearts.org
X-WR-CALDESC:Events for Lake George Arts Project
REFRESH-INTERVAL;VALUE=DURATION:PT1H
X-Robots-Tag:noindex
X-PUBLISHED-TTL:PT1H
BEGIN:VTIMEZONE
TZID:America/New_York
BEGIN:DAYLIGHT
TZOFFSETFROM:-0500
TZOFFSETTO:-0400
TZNAME:EDT
DTSTART:20170312T070000
END:DAYLIGHT
BEGIN:STANDARD
TZOFFSETFROM:-0400
TZOFFSETTO:-0500
TZNAME:EST
DTSTART:20171105T060000
END:STANDARD
BEGIN:DAYLIGHT
TZOFFSETFROM:-0500
TZOFFSETTO:-0400
TZNAME:EDT
DTSTART:20180311T070000
END:DAYLIGHT
BEGIN:STANDARD
TZOFFSETFROM:-0400
TZOFFSETTO:-0500
TZNAME:EST
DTSTART:20181104T060000
END:STANDARD
BEGIN:DAYLIGHT
TZOFFSETFROM:-0500
TZOFFSETTO:-0400
TZNAME:EDT
DTSTART:20190310T070000
END:DAYLIGHT
BEGIN:STANDARD
TZOFFSETFROM:-0400
TZOFFSETTO:-0500
TZNAME:EST
DTSTART:20191103T060000
END:STANDARD
END:VTIMEZONE
BEGIN:VEVENT
DTSTART;VALUE=DATE:20180505
DTEND;VALUE=DATE:20180609
DTSTAMP:20260423T101150
CREATED:20190402T143721Z
LAST-MODIFIED:20190402T143721Z
UID:8006-1525478400-1528502399@lakegeorgearts.org
SUMMARY:"Rest Area" A Solo Exhibition of work by Rob O'Neil
DESCRIPTION:May 5 – June 8\, 2018 \nOpening Reception: Saturday\, May 5th\, 4 – 6 pm. \nThis event is FREE and open to the public. \nGallery Hours: Tues – Fri 12 – 5 pm\, Sat 12 – 4 pm \nReview online: Albany Times Union \n  \nRob O’Neil finds beauty in unexpected places\, particularly Rest Stops\, found along highways all through the country. He is fascinated by their variety in size and amenities: some highlight past history; some are peaceful settings with gardens\, and are family friendly; others are mall-like\, selling goods; some are simple with only a picnic table and a trashcan.  They are necessary places\, all sharing a common goal: “…off-road spaces with provisions for emergency stopping and resting by motorists for short periods” (A Policy on Safety Rest Areas for the National System of Interstate and Defense Highways\, 1958). After earning his undergraduate degree\, O’Neil took a job that had him driving a box truck across the Eastern United States several times a year. Rest areas became a vital part of his driving experience.  He says: “Like a draftsman’s line across a white sheet of paper\, highways and interstates paint sweeping arcs and pin-straight lines across the landscape. Multiple midpoints exist on these lines; they’re called rest areas\, travel plazas\, picnic areas\, pit stops\, or welcome centers. Even with the constant drone of traffic\, these are areas of comfort and serenity. There is a structure and plan that makes sense; we breathe\, and our weary bodies relax a little bit. These places are interesting and useful physically\, sociologically\, and emotionally.” \nRob O’Neil earned his BFA with a concentration in photography from the University of Akron\, Ohio and his MFA in Cinema and Photography from Southern Illinois University at Carbondale. His work has been exhibited at many regional galleries and museums\, including Esther Massry Gallery; Albany Center Galleries; Albany Institute of History and Art; Opalka Gallery; University at Albany Museum; and Albany International Airport Gallery\, all located in Albany\, NY; The Arts Center of the Capital Region\, Troy\, NY; Saratoga Arts\, Saratoga Springs\, NY; and the Schenectady Museum\, Schenectady\, NY. His work has also traveled to many universities throughout the country\, including Siena College\, University of Akron\, Florida International University\, University of Nevada\, and the University Museum Southern Illinois University at Carbondale.  His awards include a NYFA Special Opportunity Stipend Grant; numerous College Professional Development Grants\, as well as an Artists and Scholars Grant\, both through the College of St. Rose. He is a three-time recipient of a Mohawk Hudson Regional Purchase Award\, one for the University at Albany University Museum\, and two for the Schenectady Museum.  He currently lives in Albany\, NY and is an Assistant Professor of Photography at The College of Saint Rose in Albany\, NY. \nThis exhibition is funded in part by The Alfred Z. Solomon Charitable Trust\, Adirondack Studios\, The Community Exchange Foundation\, a Professional Development Grant through the College of St Rose\, and theNew York State Council on The Arts with the support of Governor Andrew Cuomo and the New York State Legislature. The Courthouse Gallery hours during exhibitions are Tuesday through Friday 12 – 5 pm\, Saturday 12 – 4 pm\, and all other times by appointment. The Courthouse Gallery is located at the side entrance of the Old County Courthouse\, corner of Canada and Lower Amherst Streets\, Lake George\, NY.
URL:https://lakegeorgearts.org/event/rest-area-a-solo-exhibition-of-work-by-rob-oneil-3/
LOCATION:Courthouse Gallery\, 1 Amherst St\, Lake George\, NY\, 12845\, United States
CATEGORIES:Courthouse Gallery
END:VEVENT
BEGIN:VEVENT
DTSTART;VALUE=DATE:20180622
DTEND;VALUE=DATE:20180701
DTSTAMP:20260423T101150
CREATED:20190402T143928Z
LAST-MODIFIED:20190402T143928Z
UID:8007-1529625600-1530403199@lakegeorgearts.org
SUMMARY:Roots and Branches: Work by Betsy Krebs
DESCRIPTION:June 22 – 30\, 2018 \nOpening Reception Friday\, June 22\, 5 – 7 pm. \nThis event is FREE and open to the public. \nGallery Hours: Tues – Fri 12 – 5 pm\, Sat 12 – 4 pm \n  \nRoots & Branches: Work by Betsy Krebs\nA visual conversation about an unassuming building in Lake George\, NY\, and its impact on the community. \nBetsy Krebs says the genesis of the exhibit “Roots and Branches” evolved from a strong desire to bring attention to the unique humanitarian history and events that have taken place at the Old Stone School House\,a historic building located in the Town of Lake George\, and her former place of residence. Krebs says this “stoic folk Victorian structure exudes strength and protection as a community strong hold. While teaching locally and living in the school house\, my dream was to find out more about the space\, since a lot of information was undocumented oral history.  Notable Metropolitan opera singer Madam Homer was known to sing at the school house every Sunday during summer months. Georgia O’Keeffe was known to take walks on Middle road\, as told by local\, Clara Mae Norton.  Another notable neighbor was Edward Morse Shepard\, the man that Shepard Park\, in the Village of Lake George\, is named after. He also built and lived in what is known as Erlowest\,right down the hill from the school house.  The works in the exhibition are a spin off from a recipe book compiled in 1910 by the ladies of the ‘Lend a hand’ club that used the building as a meeting place after hours and on weekends\, working to find ways to help the community. The recipes they compiled were the catalyst for each image in the exhibit. Recipes were submitted by local community members\, as well as seasonal residents.” \nBetsy Krebs earned her M.S. in Art Education from the College of Saint Rose in Albany\, NY. Her work has been featured in many solo and group exhibitions throughout the NY North Country\, including the Albany Boys Academy in Albany\, NY; the College of Saint Rose; the Gibson Gallery in Potsdam College\, Potsdam\, NY; the Cool Beans Cafe Gallery in Queensbury NY; Valley Artisans Gallery in Cambridge\, NY; The Hyde Museum in Glens Falls\, NY; the Saratoga Arts Center\, Saratoga\, NY; Adirondack Community College\, Queensbury\, The Lake Placid Center for the Arts and L.A.R.A.C. Arts Gallery in Glens Falls\, NY. \nThe Courthouse Gallery is located at the side entrance of the Old County Courthouse\, corner of Canada and Lower Amherst Streets\, Lake George\, NY. The Courthouse Gallery hours during exhibitions are Tuesday through Friday 12 – 5 pm\, Saturday 12 – 4 pm\, and all other times by appointment. This exhibition is funded in part by The Alfred Z. Solomon Charitable Trust and the New York State Council on The Arts with the support of Governor Andrew Cuomo and the New York State Legislature.
URL:https://lakegeorgearts.org/event/roots-and-branches-work-by-betsy-krebs-3/
LOCATION:Courthouse Gallery\, 1 Amherst St\, Lake George\, NY\, 12845\, United States
CATEGORIES:Courthouse Gallery
END:VEVENT
BEGIN:VEVENT
DTSTART;VALUE=DATE:20180921
DTEND;VALUE=DATE:20181027
DTSTAMP:20260423T101150
CREATED:20190402T144214Z
LAST-MODIFIED:20190402T144214Z
UID:8009-1537488000-1540598399@lakegeorgearts.org
SUMMARY:"Retroflection"\, paintings by  Frank Owen
DESCRIPTION:September 21 – October 26\, 2018 \nOpening Reception: Friday\, September 21\, 5 – 7 pm. \nThis event is FREE and open to the public. \nGallery Hours: Tues – Fri 12 – 5 pm\, Sat 12 – 4 pm \nReview online: Review online: Lake George Mirror \nFrank Owen\, Searcher (2018)\, Acrylic on canvas\, 50 x 40 inches. \nFrank Owen’s paintings are a vibrant mix of colorful abstract works\, both large and small in scale.  He says: “I always say\, there are no bad colors. I want the paintings to feel rambunctious. Extravagant. Unruly.”   The works glisten\, due to a unique painting process incorporating many layers. Using polyethylene coated paper\, he creates a “skin” with a variety of abstract shapes\, swirls\, plaids\, and stripes that he later cuts\, scores or carves. He’ll create dozens of these “skins\,” more than he’ll need\, finally peeling off individual shapes from the plastic\, incorporating them into his paintings.  He says: “I begin to peel them off the poly\, and I place them\, compose them. But the whole process is front-to-back. It’s the opposite of the conventional way of layering an image. The first skins I lay down will appear as the front layer of the painting.”  Many works are inspired by the natural world around him\, near his home in Keene\, NY. \nFrank Owen was born in Kalispell\, Montana in 1939\, but spent much of his childhood in Woodland City\, west of Sacramento\, California. He received his B.A. and his M.A. from the University of California at Davis\, where he received a Regents Fellowship in 1967-1968. He was twice awarded a National Endowment for the Arts Fellowship in 1978-79 and in 1989-90. Owen’s work has been shown in galleries\, museums and universities throughout the United States and Europe.  For many years he has shown his work at Nancy Hoffman Gallery in New York City. He lives and works in the Adirondack Mountains\, in Keene\, NY. \nThis exhibition is funded in part by The Alfred Z. Solomon Charitable Trust\, Adirondack Studios\, The Community Exchange Foundation\, and the New York State Council on The Arts with the support of Governor Andrew Cuomo and the New York State Legislature. The Courthouse Gallery hours during exhibitions are Tuesday through Friday 12 – 5 pm\, Saturday 12 – 4 pm\, and all other times by appointment. The Courthouse Gallery is located at the side entrance of the Old County Courthouse\, corner of Canada and Lower Amherst Streets\, Lake George\, NY.
URL:https://lakegeorgearts.org/event/retroflection-paintings-by-frank-owen-3/
LOCATION:Courthouse Gallery\, 1 Amherst St\, Lake George\, NY\, 12845\, United States
CATEGORIES:Courthouse Gallery
ATTACH;FMTTYPE=:
END:VEVENT
BEGIN:VEVENT
DTSTART;VALUE=DATE:20181110
DTEND;VALUE=DATE:20181215
DTSTAMP:20260423T101150
CREATED:20190402T144351Z
LAST-MODIFIED:20190402T144351Z
UID:8010-1541808000-1544831999@lakegeorgearts.org
SUMMARY:Adolph and Joshua Rosenblatt
DESCRIPTION:Opening Reception: Saturday\, November 10\, 4 – 6 pm. \nThis event is FREE and open to the public. \nGallery Hours: Tues – Fri 12 – 5 pm\, Sat 12 – 4 pm \n \nAdolph Rosenblatt’s ceramic works celebrate people in their everyday lives – from the diner cook flipping eggs\, the customer at the lunch counter\, to a young student learning to draw. They also capture a sense of a place – depicting the house on the hill or the giant oak tree in the neighborhood – as well as capturing significant and dramatic moments from news headlines. Adolph Rosenblatt passed in February of 2017 at the age of 83. At that time Jim Higgins from the Milwaukee Journal Sentinel wrote “Rosenblatt started out painting two-dimensionally\, but with a palette knife rather than brushes. The thickness of those paintings led him to sculpting in beeswax\, then casting in bronze. When the cost of bronze prompted him to look for an alternative\, he took inspiration from his sons’ schoolboy projects and began working in clay. But he retained a painter’s passionate concern with color.”  Milwaukee Sentinel art critic Dean Jensen wrote in 1982: “The longer one studies Rosenblatt’s clay works … the more they suggest Expressionist pictures that somehow left the canvas and took on a third dimension. \nAdolph Rosenblatt was born in New Haven\, CT\, 1933. He earned his BFA from Yale School of Art and Architecture in 1956. While at Yale he studied with art world luminaries Josef Albers\, James Brooks\, and Bernard Chaet. He was a beloved and celebrated Professor of Art at the University of Wisconsin-Milwaukee for over 30 years. He had numerous solo exhibitions throughout the country\, most recently “Moments & Markers”\, a major retrospective exhibit at the Jewish Museum\, Milwaukee. Other solo shows include exhibitions at Lill Street Gallery\, Chicago; Tibor de Nagy Gallery\, NY; Anderson Art Museum\, Kenosha\, WI; Milwaukee Art Museum\, Haggerty Art Museum\, Marquette University Gallery of Wisconsin Art; Charles Allis Art Museum; and Peltz Gallery\, all in Milwaukee\, WI. His work was included in group exhibitions at the Rhode Island School of Design Museum\, Providence\, RI; Yale School of Design Gallery\, New Haven\, CT; Forum Gallery\, New York\, NY; Kohler Art Center\, Sheboygan\, WI; Los Angeles Museum of Science and Industry; Objects Gallery\, Chicago\, IL; Tibor de Nagy Gallery\, NY; Dean Jensen Gallery\, and Peltz Gallery\, both in Milwaukee\, WI. His awards include Wisconsin Arts Board Grant\, University of Wisconsin-Milwaukee\, Research Award\, Midwest Arts Fellowship. In 2013 he was given a Wisconsin Visual Art Lifetime Achievement Award. His work is in the collections of the Library of Congress\, Ft Wayne Museum of Art\, Carlisle Museum of Art\, Williamstown Museum\, and Milwaukee Art Museum. \n \nJoshua Rosenblatt\, son of Adolph\, often works in a series\, building on a theme by drawing from life\, which is later expanded and completed in his studio. His most recent works are charcoal on paper drawings that record his day-to-day life experiences. His work as Director of Collections and Exhibitions Preparation at the Whitney Museum in NYC often finds him traveling to install exhibitions throughout the US\, Europe\, Russia\, and Asia. His travels resulted in a series of work observing people in public spaces\, such as airport terminals\, and another set of drawings depicting hotel room interiors. Other themes developed through observing the changing light and shadows on an exterior wall of his home over the course of several years\, views from his daily commute to work\, as well the view through his car window. His reflections of seemingly “mundane” places\, be it from business travel\, or walks through his neighborhood\, celebrate the easily lost details of how light\, reflections\, patterns\, and human gestures\, create a unique mood and sense of place. Much like his father\, Joshua’s drawings\, ranging from big and bold to light and delicate\, share a compassion for humanity in their sensitivity in depicting people\, recognizing the nuance of places\, and much that is overlooked in a “busy” world. \nJoshua Rosenblatt earned his BFA from SUNY Purchase in 1986. Recent exhibitions include his third solo show at The RE Institute in Millerton\, NY\, a 2000 square foot exhibition space\, where he displayed a number of large-scale drawings. His work has been included in group exhibitions at Brooklyn Cider House\, The Williamsburg Art and Historical Center\, Shim\, Paper Box\, Brooklyn Fireproof\, Arthelix – all located in Brooklyn\, NY; Charles Allis Art Museum\, Gallery of Wisconsin\, J.C.C. Gallery\, all located in Milwaukee\, WI; White Box\, New York\, NY; One Mile Gallery\, Kingston\, NY; and Portland Gallery of Art\, Portland\, ME. He lives and works in Astoria\, NY. \nWhile we feature here the work of these two members of the Rosenblatt family\, this is a family of accomplished creative poets and painters: Suzanne\, Adolph’s wife\, and Joshua’s mother\, is a poet and visual artist; Adolph’s daughter Sarah is a poet; Eli\, Joshua’s twin brother\, is also a painter. The family also has close ties to Lake George\, having vacationed in the region for many years. \nThis exhibition is funded in part by The Alfred Z. Solomon Charitable Trust\, Adirondack Studios\, The Community Exchange Foundation\, and the New York State Council on The Arts with the support of Governor Andrew Cuomo and the New York State Legislature.
URL:https://lakegeorgearts.org/event/adolph-and-joshua-rosenblatt-3/
LOCATION:Courthouse Gallery\, 1 Amherst St\, Lake George\, NY\, 12845\, United States
CATEGORIES:Courthouse Gallery
END:VEVENT
END:VCALENDAR