BEGIN:VCALENDAR
VERSION:2.0
PRODID:-//Lake George Arts Project - ECPv6.15.20//NONSGML v1.0//EN
CALSCALE:GREGORIAN
METHOD:PUBLISH
X-WR-CALNAME:Lake George Arts Project
X-ORIGINAL-URL:https://lakegeorgearts.org
X-WR-CALDESC:Events for Lake George Arts Project
REFRESH-INTERVAL;VALUE=DURATION:PT1H
X-Robots-Tag:noindex
X-PUBLISHED-TTL:PT1H
BEGIN:VTIMEZONE
TZID:America/New_York
BEGIN:DAYLIGHT
TZOFFSETFROM:-0500
TZOFFSETTO:-0400
TZNAME:EDT
DTSTART:20200308T070000
END:DAYLIGHT
BEGIN:STANDARD
TZOFFSETFROM:-0400
TZOFFSETTO:-0500
TZNAME:EST
DTSTART:20201101T060000
END:STANDARD
BEGIN:DAYLIGHT
TZOFFSETFROM:-0500
TZOFFSETTO:-0400
TZNAME:EDT
DTSTART:20210314T070000
END:DAYLIGHT
BEGIN:STANDARD
TZOFFSETFROM:-0400
TZOFFSETTO:-0500
TZNAME:EST
DTSTART:20211107T060000
END:STANDARD
BEGIN:DAYLIGHT
TZOFFSETFROM:-0500
TZOFFSETTO:-0400
TZNAME:EDT
DTSTART:20220313T070000
END:DAYLIGHT
BEGIN:STANDARD
TZOFFSETFROM:-0400
TZOFFSETTO:-0500
TZNAME:EST
DTSTART:20221106T060000
END:STANDARD
END:VTIMEZONE
BEGIN:VEVENT
DTSTART;TZID=America/New_York:20210728T190000
DTEND;TZID=America/New_York:20210728T210000
DTSTAMP:20260419T235955
CREATED:20210618T162803Z
LAST-MODIFIED:20210618T162803Z
UID:8068-1627498800-1627506000@lakegeorgearts.org
SUMMARY:The Spirit of Johnny Cash- Harold Ford\, Our June & The Cash Band
DESCRIPTION:Harold Ford’s voice and physical resemblance to Johnny Cash are unmistakable\, making him a natural as a Johnny Cash tribute artist. Harold Ford grew up in the foothills country between the Berkshire and Green Mountains bordering New York State. Raised on the old American pioneer songs\, at the age of four\, Harold began singing duets and harmonies with sister Dorothy. His father accompanied them on the banjo and Mother followed along with the piano. Music and a pioneering love of America became an integral part of his existence.As an adult\, Harold spent many years driving the cross country roads and corridors of America\, often with family in tow.  Weaving his way north\, south\, east\, west and settling in towns and villages along the way\,  Harold explored the back roads\, country woods and the people of this great land. As a true American figure and artist himself\, Harold Ford’s many experiences make him a storyteller in his own right and lend a deep identification to Johnny Cash’s music. Learn more: https://thespiritofjohnnycash.com/
URL:https://lakegeorgearts.org/event/the-spirit-of-johnny-cash-harold-ford-our-june-the-cash-band-3/
LOCATION:Shepard Park\, Canada Street\, Lake George\, NY\, 12845\, United States
END:VEVENT
END:VCALENDAR