BEGIN:VCALENDAR
VERSION:2.0
PRODID:-//Lake George Arts Project - ECPv6.15.20//NONSGML v1.0//EN
CALSCALE:GREGORIAN
METHOD:PUBLISH
X-WR-CALNAME:Lake George Arts Project
X-ORIGINAL-URL:https://lakegeorgearts.org
X-WR-CALDESC:Events for Lake George Arts Project
REFRESH-INTERVAL;VALUE=DURATION:PT1H
X-Robots-Tag:noindex
X-PUBLISHED-TTL:PT1H
BEGIN:VTIMEZONE
TZID:America/New_York
BEGIN:DAYLIGHT
TZOFFSETFROM:-0500
TZOFFSETTO:-0400
TZNAME:EDT
DTSTART:20200308T070000
END:DAYLIGHT
BEGIN:STANDARD
TZOFFSETFROM:-0400
TZOFFSETTO:-0500
TZNAME:EST
DTSTART:20201101T060000
END:STANDARD
BEGIN:DAYLIGHT
TZOFFSETFROM:-0500
TZOFFSETTO:-0400
TZNAME:EDT
DTSTART:20210314T070000
END:DAYLIGHT
BEGIN:STANDARD
TZOFFSETFROM:-0400
TZOFFSETTO:-0500
TZNAME:EST
DTSTART:20211107T060000
END:STANDARD
BEGIN:DAYLIGHT
TZOFFSETFROM:-0500
TZOFFSETTO:-0400
TZNAME:EDT
DTSTART:20220313T070000
END:DAYLIGHT
BEGIN:STANDARD
TZOFFSETFROM:-0400
TZOFFSETTO:-0500
TZNAME:EST
DTSTART:20221106T060000
END:STANDARD
END:VTIMEZONE
BEGIN:VEVENT
DTSTART;VALUE=DATE:20211007
DTEND;VALUE=DATE:20211008
DTSTAMP:20260419T192917
CREATED:20210912T023911Z
LAST-MODIFIED:20210912T023911Z
UID:8076-1633564800-1633651199@lakegeorgearts.org
SUMMARY:Fall for the Arts Golf Tournament
DESCRIPTION:Thursday\, October 7\, 2021\nHiland Park Country Club\n195 Haviland Road\nQueensbury NY 12804 \n\nNoon – Shotgun Start • 4-Person Scramble\nRegistration starts at 11am\n___________________________________________ \n$110 (per person) includes:\nGolf + Cart + Lunch + Steak Dinner + Awards Banquet\nlow gross + low net prizes \n$5 mimosas and bloody Mary’s + $3 draft beer specials + apple pie at the turn \nMaximum players for this fall is 100 – so sign up early!\nNo handicaps for this tournament! • Bogey Max \nPrizes: 1st\, 2nd & 3rd Gross; 1st place Ladies; highest score\nCourse Contests: Men’s and Women’s Longdrive; Men’s and Women’s Closest to the Pin; Closest to the Line\nBonus Contest!  Cornhole Champion: $5 = 3 chances to get the highest score\n___________________________________________ \nRegister: by September 30\, 2021\n___________________________________________ \n\nPlease consider being a hole sponsor at $100 \nWe also need raffle and prize items for this fundraising event! \nIf you would like to sponsor a hole\, or donate a raffle item or prize please email: tanya@lakegeorgearts.org \nOr register to SPONSOR A HOLE online\n___________________________________________ \n\n 
URL:https://lakegeorgearts.org/event/fall-for-the-arts-golf-tournament-3-3/
LOCATION:NY
END:VEVENT
END:VCALENDAR