BEGIN:VCALENDAR
VERSION:2.0
PRODID:-//Lake George Arts Project - ECPv6.15.20//NONSGML v1.0//EN
CALSCALE:GREGORIAN
METHOD:PUBLISH
X-WR-CALNAME:Lake George Arts Project
X-ORIGINAL-URL:https://lakegeorgearts.org
X-WR-CALDESC:Events for Lake George Arts Project
REFRESH-INTERVAL;VALUE=DURATION:PT1H
X-Robots-Tag:noindex
X-PUBLISHED-TTL:PT1H
BEGIN:VTIMEZONE
TZID:America/New_York
BEGIN:DAYLIGHT
TZOFFSETFROM:-0500
TZOFFSETTO:-0400
TZNAME:EDT
DTSTART:20180311T070000
END:DAYLIGHT
BEGIN:STANDARD
TZOFFSETFROM:-0400
TZOFFSETTO:-0500
TZNAME:EST
DTSTART:20181104T060000
END:STANDARD
BEGIN:DAYLIGHT
TZOFFSETFROM:-0500
TZOFFSETTO:-0400
TZNAME:EDT
DTSTART:20190310T070000
END:DAYLIGHT
BEGIN:STANDARD
TZOFFSETFROM:-0400
TZOFFSETTO:-0500
TZNAME:EST
DTSTART:20191103T060000
END:STANDARD
BEGIN:DAYLIGHT
TZOFFSETFROM:-0500
TZOFFSETTO:-0400
TZNAME:EDT
DTSTART:20200308T070000
END:DAYLIGHT
BEGIN:STANDARD
TZOFFSETFROM:-0400
TZOFFSETTO:-0500
TZNAME:EST
DTSTART:20201101T060000
END:STANDARD
END:VTIMEZONE
BEGIN:VEVENT
DTSTART;VALUE=DATE:20190511
DTEND;VALUE=DATE:20190615
DTSTAMP:20260420T200114
CREATED:20190402T142454Z
LAST-MODIFIED:20230812T181109Z
UID:7599-1557532800-1560556799@lakegeorgearts.org
SUMMARY:Yura Adams
DESCRIPTION:.                                            \nOpening Reception: Saturday\, May 11\, 4 – 6 pm. \nThis event is FREE and open to the public. \nGallery Hours: Tues – Fri 12 – 5 pm\, Sat 12 – 4 pm. \nReviews online: Get Visual \nWorks by Yura Adams stem from her intimate survey and imaginative observations of the natural world outside her studio window\, located in the Hudson Valley of NY State. There\, surrounded by overgrown fields\, observing weather events and the changing light of the seasons\, she creates works that are abstract\, but inspired by\, and rooted in\, the real world. Her deep interest in the natural sciences\, as well as cultural and current events\, have lead to a new body of work: Fast Earth. She says: “The study of Earth is at the center here… a vision of Earth as it survives without hum \nYura Adams earned her MFA and BFA from the San Francisco Art Institute. Her work has been exhibited nationally in many venues\, such as The New Museum\, Experimental Intermedia\, Franklin Furnace\, New Music America\, all in New York City; Real Art Ways\, Hartford\, CT; and one person shows at the John Davis Gallery in Hudson\, NY. She has taught for many years Columbia-Greene Community College in Hudson\, NY. Her awards include an Individual Artist Grant from the National Endowment for the Arts; Two New York Decentralization Grants; the Martha Boschen Porter grant from the Berkshire Taconic Foundation; and she is a recipient of the New York Foundation of the Arts Mark program. She is currently represented by John Davis Gallery in Hudson\, NY. \nThis exhibition is funded in part by the Alfred Z. Solomon Charitable Trust; Adirondack Studios; the Community Exchange Foundation; Mannix Marketing; the New York State Council on The Arts with the support of Governor Andrew Cuomo and the New York State Legislature. The Courthouse Gallery is located at the side entrance of the Old County Courthouse\, corner of Canada and Lower Amherst Streets\, Lake George\, NY. The Courthouse Gallery hours during exhibitions are Tuesday through Friday 12 – 5 pm\, Saturday 12 – 4 pm\, and all other times by appointment. \nthank you to our sponsors:
URL:https://lakegeorgearts.org/event/yura-adams-3/
LOCATION:Courthouse Gallery\, 1 Amherst St\, Lake George\, NY\, 12845\, United States
CATEGORIES:Courthouse Gallery
ATTACH;FMTTYPE=:
END:VEVENT
BEGIN:VEVENT
DTSTART;VALUE=DATE:20190619
DTEND;VALUE=DATE:20190620
DTSTAMP:20260420T200114
CREATED:20190401T183253Z
LAST-MODIFIED:20190401T183253Z
UID:7594-1560902400-1560988799@lakegeorgearts.org
SUMMARY:Lake George Summer Solstice Groovy 60s Cruise
DESCRIPTION:We were All Aboard Lake George’s luxury boat\, The Adirondac for a groovy 60’s cruise!\n \nIt was a packed night of  60’s themed fun\, including a two hour cruise along the lake\, delicious light fare from area restaurants\, live music from Graham Tichy and the New Lowdown\, raffle prizes\, a silent auction\, and the grooviest of outfits. If you were there\, you know how much fun it was… if you missed it\, check out our next fundraising event. \n \n\n \n  \nthank you to our sponsor:\n \n  \nSpecial Thanks to all of our participating restaurants:\nAAdirondack Pub & Brewery  \nAdirondack Olykoeks  \nBackstreet BBQ & Tap Room \nBarnsider BBQ  \nBen & Jerry’s  \nChristie’s On The Lake  \nCleverdale Country Store \nFort William Henry Resort and Conference Center \n The Garrison  \nGaslight of Lake George  \nHoliday Inn Resort Lake George – Water View \n Lake George Baking Company  \nLake George Beach Club  \nMama Riso’s Italian Restaurant  \nMario’s Lake George  \nPizza Jerks \nRockhill Bakehouse  \nSans Souci of Cleverdale \n SJ Garcia’s Stony Creek  \nInnTavern 16
URL:https://lakegeorgearts.org/event/summer-solstice-cruise-3/
CATEGORIES:Fundraising Events
ATTACH;FMTTYPE=:
END:VEVENT
BEGIN:VEVENT
DTSTART;VALUE=DATE:20190627
DTEND;VALUE=DATE:20190707
DTSTAMP:20260420T200114
CREATED:20190608T025225Z
LAST-MODIFIED:20230812T181356Z
UID:8042-1561593600-1562457599@lakegeorgearts.org
SUMMARY:World Awareness Children's Museum
DESCRIPTION:Courthouse Gallery:\nWACM at LGAP’s  Courthouse Gallery: “ARTeX Waterscapes”\nJune 27 – July 6\, 2019.\nOpening Reception: Thursday\, June 27\,  4 – 6 pm.\n \nThis week-long exhibition will showcase water themed paintings from the International Youth Art Exchange at the World Awareness Children’s Museum in Glens Falls\, NY. The Opening Reception takes place on Thursday\, June 27\, and will include a postcard project for all ages. \nThis event is FREE and open to the public. The Courthouse Gallery is located at the side entrance of the Old County Courthouse\, corner of Canada and Lower Amherst Streets\, Lake George\, NY. The Courthouse Gallery hours during this exhibition: Tuesday through Friday 12 – 5 pm\, Saturday 12 – 4 pm\, and all other times by appointment.
URL:https://lakegeorgearts.org/event/world-awareness-childrens-museum-at-lgap-3/
CATEGORIES:Courthouse Gallery
ATTACH;FMTTYPE=:
END:VEVENT
END:VCALENDAR