BEGIN:VCALENDAR
VERSION:2.0
PRODID:-//Lake George Arts Project - ECPv6.15.20//NONSGML v1.0//EN
CALSCALE:GREGORIAN
METHOD:PUBLISH
X-ORIGINAL-URL:https://lakegeorgearts.org
X-WR-CALDESC:Events for Lake George Arts Project
REFRESH-INTERVAL;VALUE=DURATION:PT1H
X-Robots-Tag:noindex
X-PUBLISHED-TTL:PT1H
BEGIN:VTIMEZONE
TZID:America/New_York
BEGIN:DAYLIGHT
TZOFFSETFROM:-0500
TZOFFSETTO:-0400
TZNAME:EDT
DTSTART:20180311T070000
END:DAYLIGHT
BEGIN:STANDARD
TZOFFSETFROM:-0400
TZOFFSETTO:-0500
TZNAME:EST
DTSTART:20181104T060000
END:STANDARD
BEGIN:DAYLIGHT
TZOFFSETFROM:-0500
TZOFFSETTO:-0400
TZNAME:EDT
DTSTART:20190310T070000
END:DAYLIGHT
BEGIN:STANDARD
TZOFFSETFROM:-0400
TZOFFSETTO:-0500
TZNAME:EST
DTSTART:20191103T060000
END:STANDARD
BEGIN:DAYLIGHT
TZOFFSETFROM:-0500
TZOFFSETTO:-0400
TZNAME:EDT
DTSTART:20200308T070000
END:DAYLIGHT
BEGIN:STANDARD
TZOFFSETFROM:-0400
TZOFFSETTO:-0500
TZNAME:EST
DTSTART:20201101T060000
END:STANDARD
BEGIN:DAYLIGHT
TZOFFSETFROM:-0500
TZOFFSETTO:-0400
TZNAME:EDT
DTSTART:20210314T070000
END:DAYLIGHT
BEGIN:STANDARD
TZOFFSETFROM:-0400
TZOFFSETTO:-0500
TZNAME:EST
DTSTART:20211107T060000
END:STANDARD
END:VTIMEZONE
BEGIN:VEVENT
DTSTART;VALUE=DATE:20191102
DTEND;VALUE=DATE:20191207
DTSTAMP:20260418T111014
CREATED:20190402T142851Z
LAST-MODIFIED:20230812T185625Z
UID:8003-1572652800-1575676799@lakegeorgearts.org
SUMMARY:Ken Ragsdale
DESCRIPTION:Memory As Process RevisitedA solo exhibition of work by Ken Ragsdale\nNov 2 to Dec 6\, 2019 \nOpening Reception: Sat\, Nov 2\, 4-6 pm. \nThis event is FREE and open to the public. \nGallery Hours:Tues – Fri 12 – 5 pmSat 12 – 4 pm. \nKen Ragsdale’s work is constructed from his childhood memories\, particularly of camping in the Pacific Northwest\, and his current reflections on the growth of America as a nation. His work creates an atmosphere of tension and anticipation generated by open space and large scale\, and by ambiguous forms in incongruous spaces. In this\, even the most mundane events of his past are reformed into epic visual stories.  \nRagsdale says: “I try to illustrate in my work\, on as many levels as I can\, the callous\, ironic\, and indifferent manipulations related to the national belief in manifest destiny. At the same time\, I want to expose and illuminate the beauty and welcoming comfort of the landscape that remains and my relationship to it.”   \nKen Ragsdale’s photographic works are likewise literal constructions. He begins by making rough sketches of places and things from his past that tie to contemporary themes. These sketches become working drawings\, and from these\, complex schematics\, which are cut out\, folded\, and tabbed into colorless three-dimensional forms. He then moves to the camera\, using the lens to create the final image\, and arranging his studio lighting to create color and atmosphere. \nExhibition reviews online:Albany Times UnionGet Visual \nThis exhibition is funded in part by the Alfred Z. Solomon Charitable Trust; Adirondack Studios; the Community Exchange Foundation; Mannix Marketing; the New York State Council on The Arts with the support of Governor Andrew Cuomo and the New York State Legislature. The Courthouse Gallery is located at the side entrance of the Old County Courthouse\, corner of Canada and Lower Amherst Streets\, Lake George\, NY.  The Courthouse Gallery hours during exhibitions are Tuesday through Friday 12 – 5 pm\, Saturday 12 – 4 pm\, and all other times by appointment. \nthank you to our sponsors:
URL:https://lakegeorgearts.org/event/ken-ragsdale-3/
LOCATION:Courthouse Gallery\, 1 Amherst St\, Lake George\, NY\, 12845\, United States
CATEGORIES:Courthouse Gallery
END:VEVENT
BEGIN:VEVENT
DTSTART;VALUE=DATE:20191201
DTEND;VALUE=DATE:20200201
DTSTAMP:20260418T111014
CREATED:20191029T163833Z
LAST-MODIFIED:20191029T163833Z
UID:8046-1575158400-1580515199@lakegeorgearts.org
SUMMARY:Call for Artists
DESCRIPTION:The Lake George Arts Project’s Courthouse Gallery presents 6 exhibitions yearly of regional\, national\, emerging and established contemporary visual artists in all media. Our gallery mission is to provide exhibition opportunities to emerging and professional artists\, preference given to work created within the last 2 years\, and to experimental or non-traditional work. We provide artists with a quality space where they can present a solid body of work in a solo or small group show. \nArtists are invited to send exhibition proposals to the Courthouse Gallery. We seek proposals from professional artists and crafts-persons (those making a living\, or endeavoring to make a living\, through their artwork). Strong preference is given to work created within the past two years. We welcome proposals for special exhibitions\, installations\, mixed media presentations\, and performance art. The deadline is always January 31. \nTo begin the process you will need the following:\n1. 10 to 12 images (Formats accepted for upload: JPG\, TIFF or GIF)\n2. Resume/CV\n3. Artist Statement/Bio \nProposals are accepted online between December 1st – January 31st.\nPlease follow this link to submit work for review:\n\nPlease do not email proposals\, or send links to web sites.\nSelection and notification is usually complete by April.
URL:https://lakegeorgearts.org/event/call-for-artists-4/
LOCATION:Courthouse Gallery\, 1 Amherst St\, Lake George\, NY\, 12845\, United States
CATEGORIES:Courthouse Gallery
ATTACH;FMTTYPE=:
END:VEVENT
BEGIN:VEVENT
DTSTART;TZID=America/New_York:20191212T173000
DTEND;TZID=America/New_York:20191212T203000
DTSTAMP:20260418T111014
CREATED:20191029T161735Z
LAST-MODIFIED:20191029T161735Z
UID:8044-1576171800-1576182600@lakegeorgearts.org
SUMMARY:Annual Meeting & Holiday Party
DESCRIPTION:LET’S CELEBRATE ANOTHER SUCCESSFUL YEAR  \nLGAP members: Join us for our Lake George Arts Project Annual Meeting and Holiday Party  \nThursday\, December 12 \n at the Prospect Room at Holiday Inn Lake George.  \nSocial Hour starts at 5:30pm\, followed by dinner and the Annual Meeting at 6:30pm.  \nBountiful Buffet $40\, with a cash bar.  \n  \nRSVP by December 6:  \n518-668-2616 or mail@lakegeorgearts.org
URL:https://lakegeorgearts.org/event/annual-general-meeting-3/
CATEGORIES:Fundraising Events
ATTACH;FMTTYPE=:
END:VEVENT
END:VCALENDAR