BEGIN:VCALENDAR
VERSION:2.0
PRODID:-//Lake George Arts Project - ECPv6.15.20//NONSGML v1.0//EN
CALSCALE:GREGORIAN
METHOD:PUBLISH
X-ORIGINAL-URL:https://lakegeorgearts.org
X-WR-CALDESC:Events for Lake George Arts Project
REFRESH-INTERVAL;VALUE=DURATION:PT1H
X-Robots-Tag:noindex
X-PUBLISHED-TTL:PT1H
BEGIN:VTIMEZONE
TZID:America/New_York
BEGIN:DAYLIGHT
TZOFFSETFROM:-0500
TZOFFSETTO:-0400
TZNAME:EDT
DTSTART:20200308T070000
END:DAYLIGHT
BEGIN:STANDARD
TZOFFSETFROM:-0400
TZOFFSETTO:-0500
TZNAME:EST
DTSTART:20201101T060000
END:STANDARD
BEGIN:DAYLIGHT
TZOFFSETFROM:-0500
TZOFFSETTO:-0400
TZNAME:EDT
DTSTART:20210314T070000
END:DAYLIGHT
BEGIN:STANDARD
TZOFFSETFROM:-0400
TZOFFSETTO:-0500
TZNAME:EST
DTSTART:20211107T060000
END:STANDARD
BEGIN:DAYLIGHT
TZOFFSETFROM:-0500
TZOFFSETTO:-0400
TZNAME:EDT
DTSTART:20220313T070000
END:DAYLIGHT
BEGIN:STANDARD
TZOFFSETFROM:-0400
TZOFFSETTO:-0500
TZNAME:EST
DTSTART:20221106T060000
END:STANDARD
END:VTIMEZONE
BEGIN:VEVENT
DTSTART;VALUE=DATE:20210714
DTEND;VALUE=DATE:20210815
DTSTAMP:20260419T095224
CREATED:20200711T002138Z
LAST-MODIFIED:20200711T002138Z
UID:8051-1626220800-1628985599@lakegeorgearts.org
SUMMARY:"The End of Eden"\, paintings by Laura Colomb
DESCRIPTION:    \nThe Lake George Arts Project’s Courthouse Gallery presents “The End of Eden”\, a solo exhibition of paintings by Laura Colomb\, July 14 – August 14\, 2021.\n\nView our  Online Talk with Laura Colomb from July 14\, 2021\, HERE.\nRead Robert Shane’s review in Whitehot Magazine HERE.\n \nAll are welcome to join us for our closing reception on August 14\, 4 – 6 pm. Come meet Laura Colomb in person! All visitors will be required to wear a mask\, and practice social distancing. \nLaura Colomb\, a native of Glens Falls\, on the southern border of the Adirondack Park\, has long been aware of the complex messages that weave through the desire for preservation of wild spaces. Her appreciation of the role State and National Parks play in allowing one to experience nature\, especially substantially wild areas\, is part of what informs her work as a painter\, as well as the complicated historical records of particular places\, often at odds with the natural beauty of the place. \nHer most recent work focuses on sites just outside her current city of Jacksonville\, FL\, primarily Kingsley Plantation\, Fort Caroline National Monument and the Talbot Islands State Parks. She says: “Most major natural spaces\, where one can really experience raw nature\, are through State and National Parks; many of which were initially protected due to their proximity to sites which contained historical significance. The density of these forests\, with the ominous rustle of creatures moving next to you\, but which you can’t see\, create a miasma of nightmare. Yet\, in the light\, the greenery\, and the scrub\, there is a rich beauty\, as if steeped in a world where time stands still\, where one can still momentarily get lost in the romanticism of the natural landscape.” \nLaura Colomb earned her BFA degree from the College of Saint Rose\, Albany\, NY\, a BA degree in French Studies from the University of North Florida\, Jacksonville\, FL and MFA degree at Boston University\, Boston\, MA. Recent exhibitions include Sensory Illusions\, The Cultural Center at Ponte Vedra Beach\, FL\, Contemplations\, Jax Makerspace\, Jacksonville\, FL\, and an upcoming solo exhibition at Onondaga Community College\, Syracuse\, NY. Her awards include an Art Ventures grant from the Community Foundation of Northeast Florida\, the Starr Fellowship from the Royal Academy of the Arts in London\, UK\, Best Emerging Regional Curator award from Metroland Magazine\, Constantin Alajalov Scholarship and Academic scholarship from Boston University\, as well as the Artist’s Award\, Visual Arts scholarship and Academic Scholarship from the College of Saint Rose. She has taught at the University of North Florida\, Boston University\, the College of Saint Rose and SUNY Adirondack. She has been a guest critic/speaker for the Camberwell College of Art in London\, UK\, The College of Saint Rose in Albany\, NY and the Upper Hudson Valley Watercolor Society in Queensbury\, NY. She has curated and organized exhibitions for various galleries including Saratoga Arts in Saratoga Springs\, NY and North Main Gallery in Salem\, NY. You can learn more about her work at www.lauracolomb.com. \nView Checklist of paintings for sale HERE. \nThe Courthouse Gallery is located at the side entrance of the Old County Courthouse\, corner of Canada and Lower Amherst Streets\, Lake George\, NY. \nHours during exhibitions are Wednesday through Friday 12 – 5 pm\, Saturday 12 – 4 pm\, and all other times by appointment. \nThis exhibition is funded in part by the New York State Council on the Arts with the support of Governor Andrew M. Cuomo and the New York State Legislature; the Town and Village of Lake George; Price Chopper’s Golub Foundation; 518 Profiles; the Glen & Carol Pearsall Adirondack Foundation\, and LGAP members. Please Join us today! \n  \nthank you to our sponsors: \n       \n     
URL:https://lakegeorgearts.org/event/laura-colomb-3/
CATEGORIES:Courthouse Gallery
ATTACH;FMTTYPE=:
END:VEVENT
BEGIN:VEVENT
DTSTART;TZID=America/New_York:20210804T190000
DTEND;TZID=America/New_York:20210804T210000
DTSTAMP:20260419T095224
CREATED:20210618T162940Z
LAST-MODIFIED:20210618T162940Z
UID:8069-1628103600-1628110800@lakegeorgearts.org
SUMMARY:Alex Torres and His Latin Orchestra
DESCRIPTION:Formed October 1980 in Amsterdam\, NY\, this 12 piece orchestra is led by the Bronx-born bassist Alex Torres.  They have been presented by hundreds of festivals\, performing arts centers and events annually to perform their original blend of Afro-Caribbean rhythms such as Salsa\, Merengue\, Cha-cha\, Bomba\, Plena and Latin Jazz.  The Orchestra has been the recipient of numerous awards including the New England Cultural Arts Preservation Award\, the New York State Music Achievement Award\, the Schenectady League of Arts Award\, The Governor´s Excellence in Arts Award\, The NAACP Albany Chapter Award and 3 awards from NY Capital District Original Music Awards in 2016. Learn more: https://alextorres.com/home
URL:https://lakegeorgearts.org/event/alex-torres-and-his-latin-orchestra-3/
LOCATION:Shepard Park\, Canada Street\, Lake George\, NY\, 12845\, United States
END:VEVENT
BEGIN:VEVENT
DTSTART;TZID=America/New_York:20210809T190000
DTEND;TZID=America/New_York:20210809T203000
DTSTAMP:20260419T095224
CREATED:20210723T135630Z
LAST-MODIFIED:20210723T135630Z
UID:8073-1628535600-1628541000@lakegeorgearts.org
SUMMARY:Shakespeare: Death by Fluffy Kittens!
DESCRIPTION:Family-friendly\, audience-interactive\, improvisational comedy entertainment!\nJoin your friendly\, neighborhood Shakespeare — two-time winner (2018\, 2019) of the Renaissance Festival Awards Favorite Child-Friendly Act and winner of New York Shakespeare’s Audience Interactive Shakespeare Performance (2020)— for a silly evening full of adventures & merriment: sword fights\, mistaken identities\, star-cross’d lovers\, flying implements of doom\, musical numbers\, and … death by fluffy kittens!\nShakespeare: Death by Fluffy Kittens! is a zany performance shaped to be fun for everyone!
URL:https://lakegeorgearts.org/event/shakespeare-death-by-fluffy-kittens-3/
LOCATION:Shepard Park\, Canada Street\, Lake George\, NY\, 12845\, United States
END:VEVENT
BEGIN:VEVENT
DTSTART;TZID=America/New_York:20210811T070000
DTEND;TZID=America/New_York:20210811T210000
DTSTAMP:20260419T095224
CREATED:20210618T163104Z
LAST-MODIFIED:20210618T163104Z
UID:8070-1628665200-1628715600@lakegeorgearts.org
SUMMARY:The Dylan Perrillo Orchestra
DESCRIPTION:The Dylan Perrillo Orchestra from Albany\, NY performs popular American music from 1890-1950 taking a particular liking to the songbook of the 1920’s. Complete with a six-piece horn section\, violin\, vocalist and rhythm section\, DPO boasts an impressive line up of accomplished musicians of their own accord. Beginning in 2013\, the big band has steadily been working towards building an audience for their unique interpretation of classic and not-so-classic\, jazz-influenced compositions. Learn more: http://www.dylanperrillo.com/dylanperrilloorchestra
URL:https://lakegeorgearts.org/event/the-dylan-perrillo-orchestra-3/
LOCATION:Shepard Park\, Canada Street\, Lake George\, NY\, 12845\, United States
END:VEVENT
BEGIN:VEVENT
DTSTART;TZID=America/New_York:20210818T190000
DTEND;TZID=America/New_York:20210818T210000
DTSTAMP:20260419T095224
CREATED:20210618T163236Z
LAST-MODIFIED:20210618T163236Z
UID:8071-1629313200-1629320400@lakegeorgearts.org
SUMMARY:The Stony Creek Band
DESCRIPTION:Yes\, they plan on playing\, even though the weather may be unpredictable… \nFor over 40 years\, the Stony Creek Band has been one of the most enduringly popular musical groups in the northeastern United States. The Stony Creek Band has thrilled generations of fans with its high energy blend of rock\, folk\, country and bluegrass; a sound that has consistently defied description but is “a product of the landscape as authentically upstate as any Hudson River School painting or sculpture by David Smith” and performed in a manner described by one reviewer as “a ferocious ensemble attack; like a runaway train!”. Over the last 40 years\, the Stony Creek Band has evolved from an acoustic trio with roots in traditional folk and country music to a purveyor of American idioms\, and back again. The band’s music is the sound of mature\, seasoned artists who have outlasted the years and their own baser instincts to mentor and encourage younger artists\, enrich their communities and preserve and transmit a living memory.  With the release of 2013’s Stony Creek Band Live! album\, the band has successfully captured the proverbial “lightning in a bottle” bringing to fans around the world the sound\, raw energy and contagious excitement of the Stony Creek Band’s legendary concert performances. Don’t miss the fun!!!! Learn more: https://stonycreekband.com/home
URL:https://lakegeorgearts.org/event/the-stony-creek-band-3/
LOCATION:Shepard Park\, Canada Street\, Lake George\, NY\, 12845\, United States
END:VEVENT
BEGIN:VEVENT
DTSTART;TZID=America/New_York:20210825T190000
DTEND;TZID=America/New_York:20210825T210000
DTSTAMP:20260419T095224
CREATED:20210618T163400Z
LAST-MODIFIED:20210618T163400Z
UID:8072-1629918000-1629925200@lakegeorgearts.org
SUMMARY:Mark Gamsjager & The Lustre Kings
DESCRIPTION:The Lustre Kings boast a devoted international fanbase and continue to perform over 150 dates a year\, including regular stops at nightspots\, festivals and casinos like Tip Top Deluxe\, Skinny Dennis and The Continental Club; Viva Las Vegas\, Heritage Folk Festival and the Rockin 50s Fest; and the Potawamoti Hotel. Gamsjager\, a Gretsch guitars endorsee who has taught for the National Guitar Workshop\, has been a guest at prestigious venues ranging from Kennedy Center (Washington DC) to the Montreal Jazz Fest. Beginning with 1995’s Mark Gamsjager Rocks & The Lustre Kings Roll\, the band staked a claim to a modern take on the reverb-driven sounds of early rock\, leaning also on touchstones of country\, blues and R&B. Other artists\, like the famed “Queen of Rock\,” Wanda Jackson\, hear the authenticity in The Lustre Kings. Perhaps that’s why she hired Gamsjager and the group as her backing unit for many tours. “I have worked with many bands around the world through the years\,” Jackson says\, “and none are better than Mark Gamsjager and The Lustre Kings. Their fine showmanship and musical ability make them the greatest in my book. They rock!!” Learn more: https://www.lustrekings.com/
URL:https://lakegeorgearts.org/event/mark-gamsjager-the-lustre-kings-3/
LOCATION:Shepard Park\, Canada Street\, Lake George\, NY\, 12845\, United States
END:VEVENT
END:VCALENDAR