BEGIN:VCALENDAR
VERSION:2.0
PRODID:-//Lake George Arts Project - ECPv6.15.20//NONSGML v1.0//EN
CALSCALE:GREGORIAN
METHOD:PUBLISH
X-WR-CALNAME:Lake George Arts Project
X-ORIGINAL-URL:https://lakegeorgearts.org
X-WR-CALDESC:Events for Lake George Arts Project
REFRESH-INTERVAL;VALUE=DURATION:PT1H
X-Robots-Tag:noindex
X-PUBLISHED-TTL:PT1H
BEGIN:VTIMEZONE
TZID:America/New_York
BEGIN:DAYLIGHT
TZOFFSETFROM:-0500
TZOFFSETTO:-0400
TZNAME:EDT
DTSTART:20250309T070000
END:DAYLIGHT
BEGIN:STANDARD
TZOFFSETFROM:-0400
TZOFFSETTO:-0500
TZNAME:EST
DTSTART:20251102T060000
END:STANDARD
BEGIN:DAYLIGHT
TZOFFSETFROM:-0500
TZOFFSETTO:-0400
TZNAME:EDT
DTSTART:20260308T070000
END:DAYLIGHT
BEGIN:STANDARD
TZOFFSETFROM:-0400
TZOFFSETTO:-0500
TZNAME:EST
DTSTART:20261101T060000
END:STANDARD
BEGIN:DAYLIGHT
TZOFFSETFROM:-0500
TZOFFSETTO:-0400
TZNAME:EDT
DTSTART:20270314T070000
END:DAYLIGHT
BEGIN:STANDARD
TZOFFSETFROM:-0400
TZOFFSETTO:-0500
TZNAME:EST
DTSTART:20271107T060000
END:STANDARD
END:VTIMEZONE
BEGIN:VEVENT
DTSTART;TZID=America/New_York:20260516T160000
DTEND;TZID=America/New_York:20260516T180000
DTSTAMP:20260425T074136
CREATED:20260423T162926Z
LAST-MODIFIED:20260424T174008Z
UID:10000632-1778947200-1778954400@lakegeorgearts.org
SUMMARY:Artist’s Reception: Hayden Clay Williams "Clear Boundaries"
DESCRIPTION:Join artist Hayden Clay Williams and the Lake George Arts Project at the Courthouse Gallery for an opportunity to meet the artist and discuss the unique creative process behind his show “Clear Boundaries.”\nThis event is free and open to the public\nSaturday\, May 16th\, 4pm-6pm
URL:https://lakegeorgearts.org/event/artists-reception-hayden-clay-williams-clearboundaries/
LOCATION:Courthouse Gallery\, 1 Amherst St\, Lake George\, NY\, 12845\, United States
CATEGORIES:Courthouse Gallery
ATTACH;FMTTYPE=image/png:https://lakegeorgearts.org/wp-content/uploads/2026/04/hayden-event-header-1.png
END:VEVENT
END:VCALENDAR