BEGIN:VCALENDAR
VERSION:2.0
PRODID:-//Lake George Arts Project - ECPv6.15.20//NONSGML v1.0//EN
CALSCALE:GREGORIAN
METHOD:PUBLISH
X-WR-CALNAME:Lake George Arts Project
X-ORIGINAL-URL:https://lakegeorgearts.org
X-WR-CALDESC:Events for Lake George Arts Project
REFRESH-INTERVAL;VALUE=DURATION:PT1H
X-Robots-Tag:noindex
X-PUBLISHED-TTL:PT1H
BEGIN:VTIMEZONE
TZID:America/New_York
BEGIN:DAYLIGHT
TZOFFSETFROM:-0500
TZOFFSETTO:-0400
TZNAME:EDT
DTSTART:20250309T070000
END:DAYLIGHT
BEGIN:STANDARD
TZOFFSETFROM:-0400
TZOFFSETTO:-0500
TZNAME:EST
DTSTART:20251102T060000
END:STANDARD
BEGIN:DAYLIGHT
TZOFFSETFROM:-0500
TZOFFSETTO:-0400
TZNAME:EDT
DTSTART:20260308T070000
END:DAYLIGHT
BEGIN:STANDARD
TZOFFSETFROM:-0400
TZOFFSETTO:-0500
TZNAME:EST
DTSTART:20261101T060000
END:STANDARD
BEGIN:DAYLIGHT
TZOFFSETFROM:-0500
TZOFFSETTO:-0400
TZNAME:EDT
DTSTART:20270314T070000
END:DAYLIGHT
BEGIN:STANDARD
TZOFFSETFROM:-0400
TZOFFSETTO:-0500
TZNAME:EST
DTSTART:20271107T060000
END:STANDARD
END:VTIMEZONE
BEGIN:VEVENT
DTSTART;TZID=America/New_York:20260329T140000
DTEND;TZID=America/New_York:20260329T190000
DTSTAMP:20260423T121336
CREATED:20260120T171016Z
LAST-MODIFIED:20260329T114041Z
UID:21077-1774792800-1774810800@lakegeorgearts.org
SUMMARY:Bands & Beans 2026
DESCRIPTION:32 years of 100% homegrown music & chili!\n \nSunday\, March 29\, 20262pm – 7pmFort William Henry Conference Center\nSpice up your March with a heaping helping of fun at the Bands and Beans – the biggest party in the North Country! \nOver twenty local restaurants will be throwing down their best chili concoctions and all vying for the coveted People’s Choice Award. The heat doesn’t stop there though! We’ve got nine of your favorite bands\, on two stages\, playing all day long. This event isn’t just a ton of fun\, the proceeds from Bands ‘n Beans benefit the Lake George Arts Project’s free and open to all music and art programs like our year-round Courthouse Gallery exhibitions\, our Summer Concert Series and our popular Jazz at the Lake\, three-day\, Jazz Festival. \n \nEarly-Bird Ticket Sales Have Flown the Coop!You can still get tickets at the door for $35.Doors open at 1:30pmBallroom opens at 1:45pm.Northern Borne starts at 1:30pmThe Stony Creek Band starts at 2pm \nYour ticket unlocks five hours of live music from 9 bands and chili from 25 local restaurants. It’s the best deal in town! \n			\n			\n				\n				\n				\n				\n			\n				\n				\n				\n				\n				\n				\n				\n				\n				\n				\n				THANK YOU TO OUR 2026 BANDS AND BEANS SPONSORS
URL:https://lakegeorgearts.org/event/bands-beans-2026/
LOCATION:Fort William Henry Conference Center\, 48 Canada Street\, Lake George\, NY\, 12845\, United States
CATEGORIES:Fundraising Events
ATTACH;FMTTYPE=image/png:https://lakegeorgearts.org/wp-content/uploads/2026/01/2026-Bands-and-Beans-Event-Cover.png
END:VEVENT
BEGIN:VEVENT
DTSTART;TZID=America/New_York:20260513T120000
DTEND;TZID=America/New_York:20260613T160000
DTSTAMP:20260423T121336
CREATED:20260423T150129Z
LAST-MODIFIED:20260423T153302Z
UID:21613-1778673600-1781366400@lakegeorgearts.org
SUMMARY:Hayden Clay Williams: Suburbs
DESCRIPTION:Hayden Clay Williams:  SuburbsMay 13 through June 13\, 2026\nArtist’s ReceptionSaturday\, May 16th4:00 – 6:00 PM\n			\n				\n				\n				\n				\n				About the Show\nDigital artist Hayden Clay Williams will present a new group of works from his series Suburbs\, in which suburban life in the U.S. is examined through a surrealist lens. Using 3D rendering software\, the artist creates elaborately detailed scenes of suburban sprawl centered on bizarre arrangements of cookie-cutter houses. Channeling both the Belgian surrealist Rene Magritte and the filmmaker David Lynch\, Williams’ scenes are bathed in a glaring\, bright daylight that underscores the equally familiar and strange rules and rituals of modern homeownership. In the artist’s words\, “I’m particularly interested in blurring the line between dreams and reality\, creating sensations of strange tranquility.” The artist has noted elsewhere that there are “a lot of interesting stories to be told about the suburbs\,” and his method of sharing them is by first removing all visual traces of people\, pets\, and cars\, so that houses\, yards\, streets\, and sidewalks become the protagonists of his narrative. \nBio\nHayden Clay is a visual artist currently living and working in Frederick\, Maryland (USA). His practice centers around 3D digital art\, through which he creates surreal visual worlds that blur the boundaries between dreams and reality. His imagery is marked by a clean\, minimal aesthetic\, where simple natural elements are transformed into poetic\, otherworldly scenes. \nClay combines technical precision with emotionally resonant visual language. His use of pastel tones\, soft lighting\, and organic compositions evokes a meditative atmosphere. Many of his works move between utopia and dystopia\, between digital simulation and the familiarity of memory. He draws inspiration from nature\, childhood recollections\, and everyday sensory experiences—such as the warmth of sunlight on skin or the smell of freshly cut grass. \n			\n			\n				\n				\n				\n				\n				\n				\n				\n				\n				\n				\n			\n				\n				\n				\n				\n				\n			\n				\n				\n				\n				\n				\n			\n			\n				\n				\n				\n				\n			\n				\n				\n				\n				\n				\n				\n				\n				\n				\n				\n				\n			\n			\n				\n				\n				\n				\n				\n				\n				\n				\n				\n				Courthouse Gallery\n1 Lower Amherst StreetLake George\, NY 12845518-668-2616\nHours: Wednesday – Friday: 12:00 – 5:00 PMSaturday: 12:00 – 4:00 PM\n			\n			\n				\n				\n				\n				\n			\n				\n				\n				\n				\n				\n				\n				\n				\n				\n				\n				THANK YOU!\n			\n				\n				\n				\n				\n				Throughout the year\, we offer 17 exhibitions of work by emerging and established artists in our Courthouse Gallery and in partner locations throughoutLake George. \nWe are able to do this because of the support of our sponsors and LGAP members.\n			\n			\n				\n				\n				\n				\n			\n				\n				\n				\n				\n				\n				\n				\n				\n				\n				\n				\n			\n				\n				\n				\n				\n				This program is supported by the New York State Council on the Arts with the support of the Office of the Governor and the New York State Legislature.
URL:https://lakegeorgearts.org/event/hayden-clay-williams-suburbs/
LOCATION:Courthouse Gallery\, 1 Amherst St\, Lake George\, NY\, 12845\, United States
CATEGORIES:Courthouse Gallery
ATTACH;FMTTYPE=image/png:https://lakegeorgearts.org/wp-content/uploads/2026/04/hayden-event-header.png
END:VEVENT
END:VCALENDAR