BEGIN:VCALENDAR
VERSION:2.0
PRODID:-//Lake George Arts Project - ECPv6.15.20//NONSGML v1.0//EN
CALSCALE:GREGORIAN
METHOD:PUBLISH
X-WR-CALNAME:Lake George Arts Project
X-ORIGINAL-URL:https://lakegeorgearts.org
X-WR-CALDESC:Events for Lake George Arts Project
REFRESH-INTERVAL;VALUE=DURATION:PT1H
X-Robots-Tag:noindex
X-PUBLISHED-TTL:PT1H
BEGIN:VTIMEZONE
TZID:America/New_York
BEGIN:DAYLIGHT
TZOFFSETFROM:-0500
TZOFFSETTO:-0400
TZNAME:EDT
DTSTART:20190310T070000
END:DAYLIGHT
BEGIN:STANDARD
TZOFFSETFROM:-0400
TZOFFSETTO:-0500
TZNAME:EST
DTSTART:20191103T060000
END:STANDARD
BEGIN:DAYLIGHT
TZOFFSETFROM:-0500
TZOFFSETTO:-0400
TZNAME:EDT
DTSTART:20200308T070000
END:DAYLIGHT
BEGIN:STANDARD
TZOFFSETFROM:-0400
TZOFFSETTO:-0500
TZNAME:EST
DTSTART:20201101T060000
END:STANDARD
BEGIN:DAYLIGHT
TZOFFSETFROM:-0500
TZOFFSETTO:-0400
TZNAME:EDT
DTSTART:20210314T070000
END:DAYLIGHT
BEGIN:STANDARD
TZOFFSETFROM:-0400
TZOFFSETTO:-0500
TZNAME:EST
DTSTART:20211107T060000
END:STANDARD
END:VTIMEZONE
BEGIN:VEVENT
DTSTART;VALUE=DATE:20200509
DTEND;VALUE=DATE:20200613
DTSTAMP:20260423T202021
CREATED:20190605T164427Z
LAST-MODIFIED:20190605T164427Z
UID:10000590-1588982400-1592006399@lakegeorgearts.org
SUMMARY:Lee Malerich and Michael Van Winkle
DESCRIPTION:Courthouse Gallery Virtual Exhibition + Online Event:\nSculpture by Lee Malerich and Paintings by Michael Van Winkle\nMay 9 – June 12\, 2020\nView our recorded talk with the Artists!\nIn place of a Gallery Reception on May 9\, 2020\,  The Lake George Arts Project’s Courthouse Gallery presented an online talk with exhibiting artists Lee Malerich and Michael Van Winkle. For those that were unable to tune in for the Live Talk\, follow the link above\, or click the photo. \n*Unfortunately the recording started ten minutes in\, so we are missing some footage of Lee\, who went first\, talking about her work. \nFollow these links to a brief slideshow film about each artist and their work:\nLee Malerich  \nMichael Van Winkle \nFollow these links to view work for sale:\nLee Malerich Checklist of works\nMichael Van Winkle Checklist of works \nThis exhibition will be installed in the gallery\, but while public health mandates related to COVID 19 are in place\, the gallery will remain closed\, and we will not host any receptions or meetings. We will reassess the situation as restrictions are eventually lifted\, possibly allowing for pre-scheduled gallery visits for individuals\, or very small groups. \nLee Malerich\, “Disguise”. Recycled wooden chairs\, 29 x 18 x 19 inches. \nAbout the Artists:\nBoth Lee Malerich and Michael Van Winkle create works depicting or referencing the human figure. Lee Malerich considers women’s issues\, and bodies\, as she recycles broken wooden furniture. Michael Van Winkle’s acrylic on canvas works depict figures in contorted postures\, literally pushing against the painting’s perimeters. Each in their unique way taps into shared aspects of our collective human condition. \nLee Malerich utilizes discarded chairs\, reassembling them into expressive sculptures that serve as metaphors for the female body. She says: “I make Uneasy Chairs. Chairs in which one cannot sit. Each chair represents a woman – They reflect the human body without describing it. They inhabit the body’s negative space. They contain many parts of many different chairs\, redesigned so they can continue to stand\, after losing a bit of themselves. Imagine scar tissue\, as the viewer notes the differences between a normal chair and these mixed and matched rebuilt modifications which are the poster girls of resistance. How is a woman’s composition altered when she has a baby on her hip? Or when the baby is still in utero?” \nLee Malerich earned her BFA and MFA in Fiber/Fabrics from Northern Illinois University\, DeKalb\, Illinois. Her work has been exhibited at many venues\, including Columbia College; Coker College; University of South Carolina; Columbia Museum of Art (all in South Carolina); The Ormond Beach Museum\, Ormond Beach\, Fl; Kentucky Museum of Art and Craft\, Louisville\, KY; North Carolina Folk Art Center\, Asheville\, NC; and Delaware Center for Contemporary Art\, Wilmington\, DE.  Her awards include three South Carolina Arts Commission fellowships in the area of Crafts\, and one Regional National Endowment for the Arts Fellowship. She currently lives in Neeses\, SC. Learn more about Lee Malerich at leemalerich.wordpress.com. \nMichael Van Winkle\, “In the Wet with Shards”\, acrylic on canvas\, 46 x 30 inches. \nMichael Van Winkle’s paintings stem from a mix of observation\, invention and memory. His recent paintings explore a broad tradition of representational painting and its relationship to abstraction. He says: “Dancers\, explorers and amateur philosophers; the figures in my paintings and drawings are earnest and silly. They are working hard to discover meaning within the bounds of their environment. Their bodies are poised and their positions strain for purpose. However\, the paintings aren’t primarily concerned with their actions or intentions\, but focus on their material constraints and the painted environment they inhabit.” \nMichael Van Winkle earned his BFA in Painting\, with a Minor in Philosophy\, from the New York State College of Ceramics at Alfred University\, NY\, and his MFA in Painting from State University of New York at Albany. His work was recently exhibited in solo shows at The Times Club\, Iowa City\, IA; ECA+ Gallery\, Easthampton\, MA; Historic Northampton Museum\, Northampton\, MA; Yates Gallery\, Siena College\, Loudonville\, NY; The Foundry for Art\, Design and Culture\, Cohoes\, NY; and in group shows at LabSpace\, Hillsdale\, NY; Collarworks Gallery\, Troy NY; and Artspace\, New Haven\, CT. His awards include residencies at The Elizabeth Murray Artist Residency in Granville\, NY;  Ragged Edge Print Studio\, Cohoes\, NY; and Vermont Studio Center\, Johnson\, VT. He has taught at Skidmore College\, Siena College\, The Doane Stuart School\, SUNY Albany\, and College of St Rose. He currently lives in Mechanicville\, NY. Learn more about Michael Van Winkle at: www.michaelvanwinkle.com. \nArtist Resume /CV:\nLee Malerich\nMichael Van Winkle \nThe Courthouse Gallery is located at the side entrance of the Old County Courthouse\, corner of Canada and Lower Amherst Streets\, Lake George\, NY. \nPlease NOTE: Regular Gallery hours are temporarily suspended due to COVID-19 health emergency.  Call 518-668-2616 or visit www.lakegeorgearts.org  for updates. \nThis exhibition is funded in part by the Town and Village of Lake George; the Alfred Z. Solomon Charitable Trust; 518 Profiles; Mannix Marketing; Price Chopper’s Golub Foundation; and LGAP members.  Please Join us today! \n  \nthank you to our sponsors:\n           \n 
URL:https://lakegeorgearts.org/event/lee-malerich-and-michael-van-winkle-3/
LOCATION:Courthouse Gallery\, 1 Amherst St\, Lake George\, NY\, 12845\, United States
CATEGORIES:Courthouse Gallery
ATTACH;FMTTYPE=:
END:VEVENT
END:VCALENDAR