BEGIN:VCALENDAR
VERSION:2.0
PRODID:-//Lake George Arts Project - ECPv6.15.20//NONSGML v1.0//EN
CALSCALE:GREGORIAN
METHOD:PUBLISH
X-ORIGINAL-URL:https://lakegeorgearts.org
X-WR-CALDESC:Events for Lake George Arts Project
REFRESH-INTERVAL;VALUE=DURATION:PT1H
X-Robots-Tag:noindex
X-PUBLISHED-TTL:PT1H
BEGIN:VTIMEZONE
TZID:America/New_York
BEGIN:DAYLIGHT
TZOFFSETFROM:-0500
TZOFFSETTO:-0400
TZNAME:EDT
DTSTART:20190310T070000
END:DAYLIGHT
BEGIN:STANDARD
TZOFFSETFROM:-0400
TZOFFSETTO:-0500
TZNAME:EST
DTSTART:20191103T060000
END:STANDARD
BEGIN:DAYLIGHT
TZOFFSETFROM:-0500
TZOFFSETTO:-0400
TZNAME:EDT
DTSTART:20200308T070000
END:DAYLIGHT
BEGIN:STANDARD
TZOFFSETFROM:-0400
TZOFFSETTO:-0500
TZNAME:EST
DTSTART:20201101T060000
END:STANDARD
BEGIN:DAYLIGHT
TZOFFSETFROM:-0500
TZOFFSETTO:-0400
TZNAME:EDT
DTSTART:20210314T070000
END:DAYLIGHT
BEGIN:STANDARD
TZOFFSETFROM:-0400
TZOFFSETTO:-0500
TZNAME:EST
DTSTART:20211107T060000
END:STANDARD
END:VTIMEZONE
BEGIN:VEVENT
DTSTART;VALUE=DATE:20200903
DTEND;VALUE=DATE:20200925
DTSTAMP:20260421T002449
CREATED:20200203T205509Z
LAST-MODIFIED:20200203T205509Z
UID:8047-1599091200-1600991999@lakegeorgearts.org
SUMMARY:Jazz at the Lake 2020 - Reimagined!
DESCRIPTION:This coming September we are planing a series of 4 hybrid online events combining performances and discussions with a number of Amazing Jazz musicians!\nThe Lake George Arts Project is deeply committed to bringing people together to hear and see great music. Our Jazz at the Lake program isn’t just one of our favorite events\, the magic of this weekend of concerts is created by having amazing musicians perform with one of the most beautiful lakes in the country as the backdrop. Even if we were able to present in a traditional sense this year\, it just wouldn’t be the same. Keeping artists\, the audience\, staff\, and volunteers safe is our top priority and is a responsibility we take seriously. Through many conversations\, and with the input of artists\, stakeholders and the audience\, the Lake George Arts Project Staff and Board of Directors have made the unprecedented decision to cancel our traditional Jazz at the Lake program for this year.  We are instead presenting a series of virtual events we are calling Jazz at the Lake Reimagined that will stream renown Jazz musicians straight to your living room. \nMark your Calendars! \nJazz at the Lake Reimagined Virtual Series:\nThursday\, September 3 at 7pm: Nicole Zuraitis & Dan Pugach\nThursday\, September 10 at 7pm: Frederick Johnson & Michael Ross\nThursday\, September 17 at 7pm: Dan Tepfer\nThursday\, September 24\, at 7pm: Sarah Elizabeth Charles \nOur Jazz at the Lake Reimagined program brings amazing Jazz musicians together for a series of 4 hybrid events that combine performances\, a discussion with the artists and time to ask your favorite musician the questions you’ve been eager to have answered.  All four events will be streamed via Facebook\, YouTube and on The Lake George Arts Project website. Visit our Jazz At The Lake page to learn more about the program\, or join our mailing list (at the bottom of the page). \n  \n   \nthank you to our sponsors:\n    \n     \n 
URL:https://lakegeorgearts.org/event/jazz-at-the-lake-2020-3/
LOCATION:lake george arts project\, 1 Amherst Street\, Lake George\, 12845
CATEGORIES:Jazz Weekend
ATTACH;FMTTYPE=:
END:VEVENT
END:VCALENDAR