BEGIN:VCALENDAR
VERSION:2.0
PRODID:-//Lake George Arts Project - ECPv6.15.20//NONSGML v1.0//EN
CALSCALE:GREGORIAN
METHOD:PUBLISH
X-WR-CALNAME:Lake George Arts Project
X-ORIGINAL-URL:https://lakegeorgearts.org
X-WR-CALDESC:Events for Lake George Arts Project
REFRESH-INTERVAL;VALUE=DURATION:PT1H
X-Robots-Tag:noindex
X-PUBLISHED-TTL:PT1H
BEGIN:VTIMEZONE
TZID:America/New_York
BEGIN:DAYLIGHT
TZOFFSETFROM:-0500
TZOFFSETTO:-0400
TZNAME:EDT
DTSTART:20200308T070000
END:DAYLIGHT
BEGIN:STANDARD
TZOFFSETFROM:-0400
TZOFFSETTO:-0500
TZNAME:EST
DTSTART:20201101T060000
END:STANDARD
BEGIN:DAYLIGHT
TZOFFSETFROM:-0500
TZOFFSETTO:-0400
TZNAME:EDT
DTSTART:20210314T070000
END:DAYLIGHT
BEGIN:STANDARD
TZOFFSETFROM:-0400
TZOFFSETTO:-0500
TZNAME:EST
DTSTART:20211107T060000
END:STANDARD
BEGIN:DAYLIGHT
TZOFFSETFROM:-0500
TZOFFSETTO:-0400
TZNAME:EDT
DTSTART:20220313T070000
END:DAYLIGHT
BEGIN:STANDARD
TZOFFSETFROM:-0400
TZOFFSETTO:-0500
TZNAME:EST
DTSTART:20221106T060000
END:STANDARD
END:VTIMEZONE
BEGIN:VEVENT
DTSTART;TZID=America/New_York:20210825T190000
DTEND;TZID=America/New_York:20210825T210000
DTSTAMP:20260419T174824
CREATED:20210618T163400Z
LAST-MODIFIED:20210618T163400Z
UID:8072-1629918000-1629925200@lakegeorgearts.org
SUMMARY:Mark Gamsjager & The Lustre Kings
DESCRIPTION:The Lustre Kings boast a devoted international fanbase and continue to perform over 150 dates a year\, including regular stops at nightspots\, festivals and casinos like Tip Top Deluxe\, Skinny Dennis and The Continental Club; Viva Las Vegas\, Heritage Folk Festival and the Rockin 50s Fest; and the Potawamoti Hotel. Gamsjager\, a Gretsch guitars endorsee who has taught for the National Guitar Workshop\, has been a guest at prestigious venues ranging from Kennedy Center (Washington DC) to the Montreal Jazz Fest. Beginning with 1995’s Mark Gamsjager Rocks & The Lustre Kings Roll\, the band staked a claim to a modern take on the reverb-driven sounds of early rock\, leaning also on touchstones of country\, blues and R&B. Other artists\, like the famed “Queen of Rock\,” Wanda Jackson\, hear the authenticity in The Lustre Kings. Perhaps that’s why she hired Gamsjager and the group as her backing unit for many tours. “I have worked with many bands around the world through the years\,” Jackson says\, “and none are better than Mark Gamsjager and The Lustre Kings. Their fine showmanship and musical ability make them the greatest in my book. They rock!!” Learn more: https://www.lustrekings.com/
URL:https://lakegeorgearts.org/event/mark-gamsjager-the-lustre-kings-3/
LOCATION:Shepard Park\, Canada Street\, Lake George\, NY\, 12845\, United States
END:VEVENT
END:VCALENDAR